Back to Build/check report for BioC 3.14 experimental data
ABCDEFG[H]IJKLMNOPQRSTUVWXYZ

This page was generated on 2021-10-21 15:52:03 -0400 (Thu, 21 Oct 2021).

BUILD results for HighlyReplicatedRNASeq on nebbiolo2

To the developers/maintainers of the HighlyReplicatedRNASeq package:
Make sure to use the following settings in order to reproduce any error or warning you see on this page.

raw results

Package 176/406HostnameOS / ArchINSTALLBUILDCHECK
HighlyReplicatedRNASeq 1.5.0  (landing page)
Constantin Ahlmann-Eltze
Snapshot Date: 2021-10-21 09:30:01 -0400 (Thu, 21 Oct 2021)
git_url: https://git.bioconductor.org/packages/HighlyReplicatedRNASeq
git_branch: master
git_last_commit: 7525806
git_last_commit_date: 2021-05-19 12:09:53 -0400 (Wed, 19 May 2021)
nebbiolo2Linux (Ubuntu 20.04.2 LTS) / x86_64  OK    OK    OK  UNNEEDED, same version is already published

Summary

Package: HighlyReplicatedRNASeq
Version: 1.5.0
Command: /home/biocbuild/bbs-3.14-bioc/R/bin/R CMD build --keep-empty-dirs --no-resave-data HighlyReplicatedRNASeq
StartedAt: 2021-10-21 11:24:19 -0400 (Thu, 21 Oct 2021)
EndedAt: 2021-10-21 11:25:16 -0400 (Thu, 21 Oct 2021)
EllapsedTime: 56.6 seconds
RetCode: 0
Status:   OK  
PackageFile: HighlyReplicatedRNASeq_1.5.0.tar.gz
PackageFileSize: 371.3 KiB

Command output

##############################################################################
##############################################################################
###
### Running command:
###
###   /home/biocbuild/bbs-3.14-bioc/R/bin/R CMD build --keep-empty-dirs --no-resave-data HighlyReplicatedRNASeq
###
##############################################################################
##############################################################################


* checking for file ‘HighlyReplicatedRNASeq/DESCRIPTION’ ... OK
* preparing ‘HighlyReplicatedRNASeq’:
* checking DESCRIPTION meta-information ... OK
* installing the package to build vignettes
* creating vignettes ... OK
* checking for LF line-endings in source and make files and shell scripts
* checking for empty or unneeded directories
* building ‘HighlyReplicatedRNASeq_1.5.0.tar.gz’