Back to Build/check report for BioC 3.14 experimental data
ABCDEFG[H]IJKLMNOPQRSTUVWXYZ

This page was generated on 2021-10-26 15:52:18 -0400 (Tue, 26 Oct 2021).

INSTALL results for HiCDataHumanIMR90 on nebbiolo2

To the developers/maintainers of the HiCDataHumanIMR90 package:
Make sure to use the following settings in order to reproduce any error or warning you see on this page.

raw results

Package 175/408HostnameOS / ArchINSTALLBUILDCHECK
HiCDataHumanIMR90 1.13.0  (landing page)
Nicolas Servant
Snapshot Date: 2021-10-26 09:30:02 -0400 (Tue, 26 Oct 2021)
git_url: https://git.bioconductor.org/packages/HiCDataHumanIMR90
git_branch: master
git_last_commit: f52e556
git_last_commit_date: 2021-05-19 11:48:02 -0400 (Wed, 19 May 2021)
nebbiolo2Linux (Ubuntu 20.04.2 LTS) / x86_64  OK    OK    OK  UNNEEDED, same version is already published

Summary

Package: HiCDataHumanIMR90
Version: 1.13.0
Command: /home/biocbuild/bbs-3.14-bioc/R/bin/R CMD INSTALL HiCDataHumanIMR90
StartedAt: 2021-10-26 11:01:36 -0400 (Tue, 26 Oct 2021)
EndedAt: 2021-10-26 11:01:37 -0400 (Tue, 26 Oct 2021)
EllapsedTime: 1.3 seconds
RetCode: 0
Status:   OK  

Command output

##############################################################################
##############################################################################
###
### Running command:
###
###   /home/biocbuild/bbs-3.14-bioc/R/bin/R CMD INSTALL HiCDataHumanIMR90
###
##############################################################################
##############################################################################


* installing to library ‘/home/biocbuild/bbs-3.14-bioc/R/library’
* installing *source* package ‘HiCDataHumanIMR90’ ...
** using staged installation
** data
** help
*** installing help indices
** building package indices
** installing vignettes
** testing if installed package can be loaded from temporary location
** testing if installed package can be loaded from final location
** testing if installed package keeps a record of temporary installation path
* DONE (HiCDataHumanIMR90)