Back to Build/check report for BioC 3.14 experimental data
ABCDEFG[H]IJKLMNOPQRSTUVWXYZ

This page was generated on 2021-10-23 15:51:47 -0400 (Sat, 23 Oct 2021).

BUILD results for HelloRangesData on nebbiolo2

To the developers/maintainers of the HelloRangesData package:
Make sure to use the following settings in order to reproduce any error or warning you see on this page.

raw results

Package 170/408HostnameOS / ArchINSTALLBUILDCHECK
HelloRangesData 1.19.0  (landing page)
Michael Lawrence
Snapshot Date: 2021-10-23 09:30:01 -0400 (Sat, 23 Oct 2021)
git_url: https://git.bioconductor.org/packages/HelloRangesData
git_branch: master
git_last_commit: 1e5dec0
git_last_commit_date: 2021-05-19 11:59:59 -0400 (Wed, 19 May 2021)
nebbiolo2Linux (Ubuntu 20.04.2 LTS) / x86_64  OK    OK    OK  UNNEEDED, same version is already published

Summary

Package: HelloRangesData
Version: 1.19.0
Command: /home/biocbuild/bbs-3.14-bioc/R/bin/R CMD build --keep-empty-dirs --no-resave-data HelloRangesData
StartedAt: 2021-10-23 11:24:19 -0400 (Sat, 23 Oct 2021)
EndedAt: 2021-10-23 11:24:46 -0400 (Sat, 23 Oct 2021)
EllapsedTime: 27.1 seconds
RetCode: 0
Status:   OK  
PackageFile: HelloRangesData_1.19.0.tar.gz
PackageFileSize: 45.73 MiB

Command output

##############################################################################
##############################################################################
###
### Running command:
###
###   /home/biocbuild/bbs-3.14-bioc/R/bin/R CMD build --keep-empty-dirs --no-resave-data HelloRangesData
###
##############################################################################
##############################################################################


* checking for file ‘HelloRangesData/DESCRIPTION’ ... OK
* preparing ‘HelloRangesData’:
* checking DESCRIPTION meta-information ... OK
* installing the package to build vignettes
* creating vignettes ... OK
* checking for LF line-endings in source and make files and shell scripts
* checking for empty or unneeded directories
* creating default NAMESPACE file
* building ‘HelloRangesData_1.19.0.tar.gz’