Back to Build/check report for BioC 3.14 experimental data
ABCDEFG[H]IJKLMNOPQRSTUVWXYZ

This page was generated on 2021-10-16 15:51:46 -0400 (Sat, 16 Oct 2021).

BUILD results for HarmonizedTCGAData on nebbiolo2

To the developers/maintainers of the HarmonizedTCGAData package:
Make sure to use the following settings in order to reproduce any error or warning you see on this page.

raw results

Package 163/404HostnameOS / ArchINSTALLBUILDCHECK
HarmonizedTCGAData 1.15.0  (landing page)
Tianle Ma
Snapshot Date: 2021-10-16 09:30:02 -0400 (Sat, 16 Oct 2021)
git_url: https://git.bioconductor.org/packages/HarmonizedTCGAData
git_branch: master
git_last_commit: 2803d02
git_last_commit_date: 2021-05-19 12:02:20 -0400 (Wed, 19 May 2021)
nebbiolo2Linux (Ubuntu 20.04.2 LTS) / x86_64  OK    OK    OK  UNNEEDED, same version is already published

Summary

Package: HarmonizedTCGAData
Version: 1.15.0
Command: /home/biocbuild/bbs-3.14-bioc/R/bin/R CMD build --keep-empty-dirs --no-resave-data HarmonizedTCGAData
StartedAt: 2021-10-16 11:22:03 -0400 (Sat, 16 Oct 2021)
EndedAt: 2021-10-16 11:22:34 -0400 (Sat, 16 Oct 2021)
EllapsedTime: 31.0 seconds
RetCode: 0
Status:   OK  
PackageFile: HarmonizedTCGAData_1.15.0.tar.gz
PackageFileSize: 718.9 KiB

Command output

##############################################################################
##############################################################################
###
### Running command:
###
###   /home/biocbuild/bbs-3.14-bioc/R/bin/R CMD build --keep-empty-dirs --no-resave-data HarmonizedTCGAData
###
##############################################################################
##############################################################################


* checking for file ‘HarmonizedTCGAData/DESCRIPTION’ ... OK
* preparing ‘HarmonizedTCGAData’:
* checking DESCRIPTION meta-information ... OK
* installing the package to build vignettes
* creating vignettes ... OK
* checking for LF line-endings in source and make files and shell scripts
* checking for empty or unneeded directories
* building ‘HarmonizedTCGAData_1.15.0.tar.gz’