Back to Build/check report for BioC 3.14 experimental data
ABCDEFG[H]IJKLMNOPQRSTUVWXYZ

This page was generated on 2021-10-19 15:52:18 -0400 (Tue, 19 Oct 2021).

BUILD results for HarmanData on nebbiolo2

To the developers/maintainers of the HarmanData package:
Make sure to use the following settings in order to reproduce any error or warning you see on this page.

raw results

Package 162/404HostnameOS / ArchINSTALLBUILDCHECK
HarmanData 1.21.0  (landing page)
Jason Ross
Snapshot Date: 2021-10-19 09:30:02 -0400 (Tue, 19 Oct 2021)
git_url: https://git.bioconductor.org/packages/HarmanData
git_branch: master
git_last_commit: d62805a
git_last_commit_date: 2021-05-19 11:57:07 -0400 (Wed, 19 May 2021)
nebbiolo2Linux (Ubuntu 20.04.2 LTS) / x86_64  OK    OK    WARNINGS  UNNEEDED, same version is already published

Summary

Package: HarmanData
Version: 1.21.0
Command: /home/biocbuild/bbs-3.14-bioc/R/bin/R CMD build --keep-empty-dirs --no-resave-data HarmanData
StartedAt: 2021-10-19 11:22:47 -0400 (Tue, 19 Oct 2021)
EndedAt: 2021-10-19 11:22:51 -0400 (Tue, 19 Oct 2021)
EllapsedTime: 3.7 seconds
RetCode: 0
Status:   OK  
PackageFile: HarmanData_1.21.0.tar.gz
PackageFileSize: 8.581 MiB

Command output

##############################################################################
##############################################################################
###
### Running command:
###
###   /home/biocbuild/bbs-3.14-bioc/R/bin/R CMD build --keep-empty-dirs --no-resave-data HarmanData
###
##############################################################################
##############################################################################


* checking for file ‘HarmanData/DESCRIPTION’ ... OK
* preparing ‘HarmanData’:
* checking DESCRIPTION meta-information ... OK
* installing the package to build vignettes
* creating vignettes ... OK
* checking for LF line-endings in source and make files and shell scripts
* checking for empty or unneeded directories
* building ‘HarmanData_1.21.0.tar.gz’