Back to Build/check report for BioC 3.14 experimental data
ABCDEFG[H]IJKLMNOPQRSTUVWXYZ

This page was generated on 2021-10-26 15:52:18 -0400 (Tue, 26 Oct 2021).

BUILD results for HSMMSingleCell on nebbiolo2

To the developers/maintainers of the HSMMSingleCell package:
Make sure to use the following settings in order to reproduce any error or warning you see on this page.

raw results

Package 182/408HostnameOS / ArchINSTALLBUILDCHECK
HSMMSingleCell 1.13.0  (landing page)
Cole Trapnell
Snapshot Date: 2021-10-26 09:30:02 -0400 (Tue, 26 Oct 2021)
git_url: https://git.bioconductor.org/packages/HSMMSingleCell
git_branch: master
git_last_commit: fbe51b3
git_last_commit_date: 2021-05-19 11:47:11 -0400 (Wed, 19 May 2021)
nebbiolo2Linux (Ubuntu 20.04.2 LTS) / x86_64  OK    OK    WARNINGS  UNNEEDED, same version is already published

Summary

Package: HSMMSingleCell
Version: 1.13.0
Command: /home/biocbuild/bbs-3.14-bioc/R/bin/R CMD build --keep-empty-dirs --no-resave-data HSMMSingleCell
StartedAt: 2021-10-26 11:26:48 -0400 (Tue, 26 Oct 2021)
EndedAt: 2021-10-26 11:26:49 -0400 (Tue, 26 Oct 2021)
EllapsedTime: 1.3 seconds
RetCode: 0
Status:   OK  
PackageFile: HSMMSingleCell_1.13.0.tar.gz
PackageFileSize: 16.09 MiB

Command output

##############################################################################
##############################################################################
###
### Running command:
###
###   /home/biocbuild/bbs-3.14-bioc/R/bin/R CMD build --keep-empty-dirs --no-resave-data HSMMSingleCell
###
##############################################################################
##############################################################################


* checking for file ‘HSMMSingleCell/DESCRIPTION’ ... OK
* preparing ‘HSMMSingleCell’:
* checking DESCRIPTION meta-information ... OK
* checking for LF line-endings in source and make files and shell scripts
* checking for empty or unneeded directories
* looking to see if a ‘data/datalist’ file should be added
* building ‘HSMMSingleCell_1.13.0.tar.gz’