Back to Build/check report for BioC 3.14 experimental data
ABCDEFG[H]IJKLMNOPQRSTUVWXYZ

This page was generated on 2021-10-26 15:52:18 -0400 (Tue, 26 Oct 2021).

INSTALL results for HMP16SData on nebbiolo2

To the developers/maintainers of the HMP16SData package:
Make sure to use the following settings in order to reproduce any error or warning you see on this page.

raw results

Package 180/408HostnameOS / ArchINSTALLBUILDCHECK
HMP16SData 1.13.2  (landing page)
Lucas schiffer
Snapshot Date: 2021-10-26 09:30:02 -0400 (Tue, 26 Oct 2021)
git_url: https://git.bioconductor.org/packages/HMP16SData
git_branch: master
git_last_commit: aa3b48d
git_last_commit_date: 2021-10-11 12:53:47 -0400 (Mon, 11 Oct 2021)
nebbiolo2Linux (Ubuntu 20.04.2 LTS) / x86_64  OK    OK    OK  UNNEEDED, same version is already published

Summary

Package: HMP16SData
Version: 1.13.2
Command: /home/biocbuild/bbs-3.14-bioc/R/bin/R CMD INSTALL HMP16SData
StartedAt: 2021-10-26 11:06:20 -0400 (Tue, 26 Oct 2021)
EndedAt: 2021-10-26 11:06:47 -0400 (Tue, 26 Oct 2021)
EllapsedTime: 26.8 seconds
RetCode: 0
Status:   OK  

Command output

##############################################################################
##############################################################################
###
### Running command:
###
###   /home/biocbuild/bbs-3.14-bioc/R/bin/R CMD INSTALL HMP16SData
###
##############################################################################
##############################################################################


* installing to library ‘/home/biocbuild/bbs-3.14-bioc/R/library’
* installing *source* package ‘HMP16SData’ ...
** using staged installation
** R
** data
*** moving datasets to lazyload DB
** inst
** byte-compile and prepare package for lazy loading
** help
*** installing help indices
** building package indices
** installing vignettes
** testing if installed package can be loaded from temporary location
snapshotDate(): 2021-10-18
** testing if installed package can be loaded from final location
snapshotDate(): 2021-10-18
** testing if installed package keeps a record of temporary installation path
* DONE (HMP16SData)