Back to Build/check report for BioC 3.14 experimental data
ABCDEFG[H]IJKLMNOPQRSTUVWXYZ

This page was generated on 2021-10-16 15:51:46 -0400 (Sat, 16 Oct 2021).

BUILD results for HMP16SData on nebbiolo2

To the developers/maintainers of the HMP16SData package:
Make sure to use the following settings in order to reproduce any error or warning you see on this page.

raw results

Package 179/404HostnameOS / ArchINSTALLBUILDCHECK
HMP16SData 1.13.2  (landing page)
Lucas schiffer
Snapshot Date: 2021-10-16 09:30:02 -0400 (Sat, 16 Oct 2021)
git_url: https://git.bioconductor.org/packages/HMP16SData
git_branch: master
git_last_commit: aa3b48d
git_last_commit_date: 2021-10-11 12:53:47 -0400 (Mon, 11 Oct 2021)
nebbiolo2Linux (Ubuntu 20.04.2 LTS) / x86_64  OK    OK    OK  UNNEEDED, same version is already published

Summary

Package: HMP16SData
Version: 1.13.2
Command: /home/biocbuild/bbs-3.14-bioc/R/bin/R CMD build --keep-empty-dirs --no-resave-data HMP16SData
StartedAt: 2021-10-16 11:23:34 -0400 (Sat, 16 Oct 2021)
EndedAt: 2021-10-16 11:25:39 -0400 (Sat, 16 Oct 2021)
EllapsedTime: 125.5 seconds
RetCode: 0
Status:   OK  
PackageFile: HMP16SData_1.13.2.tar.gz
PackageFileSize: 16.26 MiB

Command output

##############################################################################
##############################################################################
###
### Running command:
###
###   /home/biocbuild/bbs-3.14-bioc/R/bin/R CMD build --keep-empty-dirs --no-resave-data HMP16SData
###
##############################################################################
##############################################################################


* checking for file ‘HMP16SData/DESCRIPTION’ ... OK
* preparing ‘HMP16SData’:
* checking DESCRIPTION meta-information ... OK
* installing the package to build vignettes
* creating vignettes ... OK
* checking for LF line-endings in source and make files and shell scripts
* checking for empty or unneeded directories
* building ‘HMP16SData_1.13.2.tar.gz’