Index of /checkResults/3.14/data-experiment-LATEST/HIVcDNAvantWout03/raw-results/nebbiolo2

[ICO]NameLast modifiedSizeDescription

[DIR]Parent Directory  -  
[TXT]buildsrc-out.txt20-Jan-2022 04:50 1.0K 
[   ]buildsrc-summary.dcf20-Jan-2022 04:50 446  
[TXT]checksrc-out.txt20-Jan-2022 04:50 3.0K 
[   ]checksrc-summary.dcf20-Jan-2022 04:50 468  
[TXT]install-out.txt20-Jan-2022 04:50 955  
[   ]install-summary.dcf20-Jan-2022 04:50 278