Index of /checkResults/3.14/data-experiment-LATEST/HIVcDNAvantWout03/raw-results

[ICO]NameLast modifiedSizeDescription

[DIR]Parent Directory  -  
[   ]info.dcf20-Jan-2022 04:50 297  
[DIR]nebbiolo2/20-Jan-2022 04:50 -