Back to Build/check report for BioC 3.14 experimental data
ABCDEF[G]HIJKLMNOPQRSTUVWXYZ

This page was generated on 2021-12-01 18:35:24 -0500 (Wed, 01 Dec 2021).

All results for package GenomicDistributionsData

To the developers/maintainers of the GenomicDistributionsData package:
Make sure to use the following settings in order to reproduce any error or warning you see on this page.

raw results

Package 142/408HostnameOS / ArchINSTALLBUILDCHECK
GenomicDistributionsData 1.2.0  (landing page)
Kristyna Kupkova
Snapshot Date: 2021-12-01 08:30:01 -0500 (Wed, 01 Dec 2021)
git_url: https://git.bioconductor.org/packages/GenomicDistributionsData
git_branch: RELEASE_3_14
git_last_commit: da32d34
git_last_commit_date: 2021-10-26 12:39:32 -0500 (Tue, 26 Oct 2021)
nebbiolo2Linux (Ubuntu 20.04.3 LTS) / x86_64  OK    OK    OK  UNNEEDED, same version is already published