Back to Build/check report for BioC 3.14 experimental data
ABCDEF[G]HIJKLMNOPQRSTUVWXYZ

This page was generated on 2021-10-26 15:52:18 -0400 (Tue, 26 Oct 2021).

BUILD results for GWASdata on nebbiolo2

To the developers/maintainers of the GWASdata package:
Make sure to use the following settings in order to reproduce any error or warning you see on this page.

raw results

Package 154/408HostnameOS / ArchINSTALLBUILDCHECK
GWASdata 1.31.0  (landing page)
Stephanie Gogarten , Adrienne Stilp
Snapshot Date: 2021-10-26 09:30:02 -0400 (Tue, 26 Oct 2021)
git_url: https://git.bioconductor.org/packages/GWASdata
git_branch: master
git_last_commit: 2c8d368
git_last_commit_date: 2021-05-19 11:32:41 -0400 (Wed, 19 May 2021)
nebbiolo2Linux (Ubuntu 20.04.2 LTS) / x86_64  OK    OK    OK  UNNEEDED, same version is already published

Summary

Package: GWASdata
Version: 1.31.0
Command: /home/biocbuild/bbs-3.14-bioc/R/bin/R CMD build --keep-empty-dirs --no-resave-data GWASdata
StartedAt: 2021-10-26 11:23:33 -0400 (Tue, 26 Oct 2021)
EndedAt: 2021-10-26 11:23:37 -0400 (Tue, 26 Oct 2021)
EllapsedTime: 4.4 seconds
RetCode: 0
Status:   OK  
PackageFile: GWASdata_1.31.0.tar.gz
PackageFileSize: 8.249 MiB

Command output

##############################################################################
##############################################################################
###
### Running command:
###
###   /home/biocbuild/bbs-3.14-bioc/R/bin/R CMD build --keep-empty-dirs --no-resave-data GWASdata
###
##############################################################################
##############################################################################


* checking for file ‘GWASdata/DESCRIPTION’ ... OK
* preparing ‘GWASdata’:
* checking DESCRIPTION meta-information ... OK
* checking for LF line-endings in source and make files and shell scripts
* checking for empty or unneeded directories
* looking to see if a ‘data/datalist’ file should be added
* building ‘GWASdata_1.31.0.tar.gz’
Warning in utils::tar(filepath, pkgname, compression = compression, compression_level = 9L,  :
  storing paths of more than 100 bytes is not portable:
  ‘GWASdata/inst/extdata/affy_raw_data/GIGAS_g_GAINmixHapMapAffy2_GenomeWideEx_6_A03_31250.BIRDSEED.ALLELE_SUMMARY.TXT’
Warning in utils::tar(filepath, pkgname, compression = compression, compression_level = 9L,  :
  storing paths of more than 100 bytes is not portable:
  ‘GWASdata/inst/extdata/affy_raw_data/GIGAS_g_GAINmixHapMapAffy2_GenomeWideEx_6_A03_31250.BIRDSEED.CHP.TXT’
Warning in utils::tar(filepath, pkgname, compression = compression, compression_level = 9L,  :
  storing paths of more than 100 bytes is not portable:
  ‘GWASdata/inst/extdata/affy_raw_data/GIGAS_g_GAINmixHapMapAffy2_GenomeWideEx_6_A05_31282.BIRDSEED.ALLELE_SUMMARY.TXT’
Warning in utils::tar(filepath, pkgname, compression = compression, compression_level = 9L,  :
  storing paths of more than 100 bytes is not portable:
  ‘GWASdata/inst/extdata/affy_raw_data/GIGAS_g_GAINmixHapMapAffy2_GenomeWideEx_6_A05_31282.BIRDSEED.CHP.TXT’
Warning in utils::tar(filepath, pkgname, compression = compression, compression_level = 9L,  :
  storing paths of more than 100 bytes is not portable:
  ‘GWASdata/inst/extdata/affy_raw_data/GIGAS_g_GAINmixHapMapAffy2_GenomeWideEx_6_B02_31236.BIRDSEED.ALLELE_SUMMARY.TXT’
Warning in utils::tar(filepath, pkgname, compression = compression, compression_level = 9L,  :
  storing paths of more than 100 bytes is not portable:
  ‘GWASdata/inst/extdata/affy_raw_data/GIGAS_g_GAINmixHapMapAffy2_GenomeWideEx_6_B02_31236.BIRDSEED.CHP.TXT’