Back to Build/check report for BioC 3.14 experimental data
ABCDEF[G]HIJKLMNOPQRSTUVWXYZ

This page was generated on 2021-10-21 15:52:03 -0400 (Thu, 21 Oct 2021).

INSTALL results for GSVAdata on nebbiolo2

To the developers/maintainers of the GSVAdata package:
Make sure to use the following settings in order to reproduce any error or warning you see on this page.

raw results

Package 152/406HostnameOS / ArchINSTALLBUILDCHECK
GSVAdata 1.29.0  (landing page)
Robert Castelo
Snapshot Date: 2021-10-21 09:30:01 -0400 (Thu, 21 Oct 2021)
git_url: https://git.bioconductor.org/packages/GSVAdata
git_branch: master
git_last_commit: a44cefd
git_last_commit_date: 2021-05-19 11:31:51 -0400 (Wed, 19 May 2021)
nebbiolo2Linux (Ubuntu 20.04.2 LTS) / x86_64  OK    OK    OK  UNNEEDED, same version is already published

Summary

Package: GSVAdata
Version: 1.29.0
Command: /home/biocbuild/bbs-3.14-bioc/R/bin/R CMD INSTALL GSVAdata
StartedAt: 2021-10-21 11:04:59 -0400 (Thu, 21 Oct 2021)
EndedAt: 2021-10-21 11:05:09 -0400 (Thu, 21 Oct 2021)
EllapsedTime: 9.2 seconds
RetCode: 0
Status:   OK  

Command output

##############################################################################
##############################################################################
###
### Running command:
###
###   /home/biocbuild/bbs-3.14-bioc/R/bin/R CMD INSTALL GSVAdata
###
##############################################################################
##############################################################################


* installing to library ‘/home/biocbuild/bbs-3.14-bioc/R/library’
* installing *source* package ‘GSVAdata’ ...
** using staged installation
** data
** help
*** installing help indices
** building package indices
** testing if installed package can be loaded from temporary location
** testing if installed package can be loaded from final location
** testing if installed package keeps a record of temporary installation path
* DONE (GSVAdata)