Back to Build/check report for BioC 3.14 experimental data
ABCDEF[G]HIJKLMNOPQRSTUVWXYZ

This page was generated on 2021-10-23 15:51:47 -0400 (Sat, 23 Oct 2021).

CHECK results for GSVAdata on nebbiolo2

To the developers/maintainers of the GSVAdata package:
Make sure to use the following settings in order to reproduce any error or warning you see on this page.

raw results

Package 153/408HostnameOS / ArchINSTALLBUILDCHECK
GSVAdata 1.29.0  (landing page)
Robert Castelo
Snapshot Date: 2021-10-23 09:30:01 -0400 (Sat, 23 Oct 2021)
git_url: https://git.bioconductor.org/packages/GSVAdata
git_branch: master
git_last_commit: a44cefd
git_last_commit_date: 2021-05-19 11:31:51 -0400 (Wed, 19 May 2021)
nebbiolo2Linux (Ubuntu 20.04.2 LTS) / x86_64  OK    OK    OK  UNNEEDED, same version is already published

Summary

Package: GSVAdata
Version: 1.29.0
Command: /home/biocbuild/bbs-3.14-bioc/R/bin/R CMD check --install=check:GSVAdata.install-out.txt --library=/home/biocbuild/bbs-3.14-bioc/R/library --no-vignettes --timings GSVAdata_1.29.0.tar.gz
StartedAt: 2021-10-23 12:23:02 -0400 (Sat, 23 Oct 2021)
EndedAt: 2021-10-23 12:23:47 -0400 (Sat, 23 Oct 2021)
EllapsedTime: 44.8 seconds
RetCode: 0
Status:   OK  
CheckDir: GSVAdata.Rcheck
Warnings: 0

Command output

##############################################################################
##############################################################################
###
### Running command:
###
###   /home/biocbuild/bbs-3.14-bioc/R/bin/R CMD check --install=check:GSVAdata.install-out.txt --library=/home/biocbuild/bbs-3.14-bioc/R/library --no-vignettes --timings GSVAdata_1.29.0.tar.gz
###
##############################################################################
##############################################################################


* using log directory ‘/home/biocbuild/bbs-3.14-data-experiment/meat/GSVAdata.Rcheck’
* using R version 4.1.1 (2021-08-10)
* using platform: x86_64-pc-linux-gnu (64-bit)
* using session charset: UTF-8
* using option ‘--no-vignettes’
* checking for file ‘GSVAdata/DESCRIPTION’ ... OK
* this is package ‘GSVAdata’ version ‘1.29.0’
* checking package namespace information ... OK
* checking package dependencies ... OK
* checking if this is a source package ... OK
* checking if there is a namespace ... OK
* checking for hidden files and directories ... OK
* checking for portable file names ... OK
* checking for sufficient/correct file permissions ... OK
* checking whether package ‘GSVAdata’ can be installed ... OK
* checking installed package size ... NOTE
  installed size is 12.8Mb
  sub-directories of 1Mb or more:
    data  12.7Mb
* checking package directory ... OK
* checking DESCRIPTION meta-information ... NOTE
Malformed Description field: should contain one or more complete sentences.
* checking top-level files ... OK
* checking for left-over files ... OK
* checking index information ... OK
* checking package subdirectories ... OK
* checking whether the package can be loaded ... OK
* checking whether the package can be loaded with stated dependencies ... OK
* checking whether the package can be unloaded cleanly ... OK
* checking whether the namespace can be loaded with stated dependencies ... OK
* checking whether the namespace can be unloaded cleanly ... OK
* checking Rd files ... OK
* checking Rd metadata ... OK
* checking Rd cross-references ... OK
* checking for missing documentation entries ... OK
* checking for code/documentation mismatches ... OK
* checking Rd \usage sections ... OK
* checking Rd contents ... OK
* checking for unstated dependencies in examples ... OK
* checking contents of ‘data’ directory ... OK
* checking data for non-ASCII characters ... OK
* checking data for ASCII and uncompressed saves ... OK
* checking examples ... OK
* checking PDF version of manual ... OK
* DONE

Status: 2 NOTEs
See
  ‘/home/biocbuild/bbs-3.14-data-experiment/meat/GSVAdata.Rcheck/00check.log’
for details.



Installation output

GSVAdata.Rcheck/00install.out

##############################################################################
##############################################################################
###
### Running command:
###
###   /home/biocbuild/bbs-3.14-bioc/R/bin/R CMD INSTALL GSVAdata
###
##############################################################################
##############################################################################


* installing to library ‘/home/biocbuild/bbs-3.14-bioc/R/library’
* installing *source* package ‘GSVAdata’ ...
** using staged installation
** data
** help
*** installing help indices
** building package indices
** testing if installed package can be loaded from temporary location
** testing if installed package can be loaded from final location
** testing if installed package keeps a record of temporary installation path
* DONE (GSVAdata)

Tests output


Example timings

GSVAdata.Rcheck/GSVAdata-Ex.timings

nameusersystemelapsed
annotEntrez2202120.0440.0000.043
brainTxDbSets0.0020.0000.002
c2BroadSets1.300.041.34
commonPickrellHuang0.3740.0040.378
gbm_VerhaakEtAl0.3360.0160.351
genderGenesEntrez0.0010.0000.001
leukemia0.2910.0000.292