Back to Build/check report for BioC 3.14 experimental data
ABCDEF[G]HIJKLMNOPQRSTUVWXYZ

This page was generated on 2021-11-24 18:35:26 -0500 (Wed, 24 Nov 2021).

BUILD results for GSE159526 on nebbiolo2

To the developers/maintainers of the GSE159526 package:
Make sure to use the following settings in order to reproduce any error or warning you see on this page.

raw results

Package 151/408HostnameOS / ArchINSTALLBUILDCHECK
GSE159526 1.0.0  (landing page)
Victor Yuan
Snapshot Date: 2021-11-24 08:30:01 -0500 (Wed, 24 Nov 2021)
git_url: https://git.bioconductor.org/packages/GSE159526
git_branch: RELEASE_3_14
git_last_commit: 3dc7ffb
git_last_commit_date: 2021-10-26 12:43:01 -0500 (Tue, 26 Oct 2021)
nebbiolo2Linux (Ubuntu 20.04.3 LTS) / x86_64  OK    OK    OK  UNNEEDED, same version is already published

Summary

Package: GSE159526
Version: 1.0.0
Command: /home/biocbuild/bbs-3.14-bioc/R/bin/R CMD build --keep-empty-dirs --no-resave-data GSE159526
StartedAt: 2021-11-24 14:24:39 -0500 (Wed, 24 Nov 2021)
EndedAt: 2021-11-24 14:24:42 -0500 (Wed, 24 Nov 2021)
EllapsedTime: 3.0 seconds
RetCode: 0
Status:   OK  
PackageFile: GSE159526_1.0.0.tar.gz
PackageFileSize: 281.8 KiB

Command output

##############################################################################
##############################################################################
###
### Running command:
###
###   /home/biocbuild/bbs-3.14-bioc/R/bin/R CMD build --keep-empty-dirs --no-resave-data GSE159526
###
##############################################################################
##############################################################################


* checking for file ‘GSE159526/DESCRIPTION’ ... OK
* preparing ‘GSE159526’:
* checking DESCRIPTION meta-information ... OK
* installing the package to build vignettes
* creating vignettes ... OK
* checking for LF line-endings in source and make files and shell scripts
* checking for empty or unneeded directories
Omitted ‘LazyData’ from DESCRIPTION
* building ‘GSE159526_1.0.0.tar.gz’