Back to Build/check report for BioC 3.14 experimental data
ABCDEF[G]HIJKLMNOPQRSTUVWXYZ

This page was generated on 2021-10-19 15:52:17 -0400 (Tue, 19 Oct 2021).

All results for package GSE159526

To the developers/maintainers of the GSE159526 package:
Make sure to use the following settings in order to reproduce any error or warning you see on this page.

raw results

Package 150/404HostnameOS / ArchINSTALLBUILDCHECK
GSE159526 0.99.2  (landing page)
Victor Yuan
Snapshot Date: 2021-10-19 09:30:02 -0400 (Tue, 19 Oct 2021)
git_url: https://git.bioconductor.org/packages/GSE159526
git_branch: master
git_last_commit: ab1214d
git_last_commit_date: 2021-07-02 13:47:13 -0400 (Fri, 02 Jul 2021)
nebbiolo2Linux (Ubuntu 20.04.2 LTS) / x86_64  OK    OK    OK  UNNEEDED, same version is already published