Back to Build/check report for BioC 3.14 experimental data
ABCDEF[G]HIJKLMNOPQRSTUVWXYZ

This page was generated on 2021-10-23 15:51:47 -0400 (Sat, 23 Oct 2021).

CHECK results for GSE13015 on nebbiolo2

To the developers/maintainers of the GSE13015 package:
Make sure to use the following settings in order to reproduce any error or warning you see on this page.

raw results

Package 150/408HostnameOS / ArchINSTALLBUILDCHECK
GSE13015 1.1.0  (landing page)
Darawan Rinchai
Snapshot Date: 2021-10-23 09:30:01 -0400 (Sat, 23 Oct 2021)
git_url: https://git.bioconductor.org/packages/GSE13015
git_branch: master
git_last_commit: 11ea831
git_last_commit_date: 2021-05-19 12:12:55 -0400 (Wed, 19 May 2021)
nebbiolo2Linux (Ubuntu 20.04.2 LTS) / x86_64  OK    OK    OK  UNNEEDED, same version is already published

Summary

Package: GSE13015
Version: 1.1.0
Command: /home/biocbuild/bbs-3.14-bioc/R/bin/R CMD check --install=check:GSE13015.install-out.txt --library=/home/biocbuild/bbs-3.14-bioc/R/library --no-vignettes --timings GSE13015_1.1.0.tar.gz
StartedAt: 2021-10-23 12:22:51 -0400 (Sat, 23 Oct 2021)
EndedAt: 2021-10-23 12:23:24 -0400 (Sat, 23 Oct 2021)
EllapsedTime: 32.9 seconds
RetCode: 0
Status:   OK  
CheckDir: GSE13015.Rcheck
Warnings: 0

Command output

##############################################################################
##############################################################################
###
### Running command:
###
###   /home/biocbuild/bbs-3.14-bioc/R/bin/R CMD check --install=check:GSE13015.install-out.txt --library=/home/biocbuild/bbs-3.14-bioc/R/library --no-vignettes --timings GSE13015_1.1.0.tar.gz
###
##############################################################################
##############################################################################


* using log directory ‘/home/biocbuild/bbs-3.14-data-experiment/meat/GSE13015.Rcheck’
* using R version 4.1.1 (2021-08-10)
* using platform: x86_64-pc-linux-gnu (64-bit)
* using session charset: UTF-8
* using option ‘--no-vignettes’
* checking for file ‘GSE13015/DESCRIPTION’ ... OK
* this is package ‘GSE13015’ version ‘1.1.0’
* checking package namespace information ... OK
* checking package dependencies ... OK
* checking if this is a source package ... OK
* checking if there is a namespace ... OK
* checking for hidden files and directories ... OK
* checking for portable file names ... OK
* checking for sufficient/correct file permissions ... OK
* checking whether package ‘GSE13015’ can be installed ... OK
* checking installed package size ... OK
* checking package directory ... OK
* checking ‘build’ directory ... OK
* checking DESCRIPTION meta-information ... NOTE
License components which are templates and need '+ file LICENSE':
  MIT License
Packages listed in more than one of Depends, Imports, Suggests, Enhances:
  ‘GEOquery’ ‘Biobase’
A package should be listed in only one of these fields.
* checking top-level files ... NOTE
File
  LICENSE
is not mentioned in the DESCRIPTION file.
* checking for left-over files ... OK
* checking index information ... OK
* checking package subdirectories ... OK
* checking whether the package can be loaded ... OK
* checking whether the package can be loaded with stated dependencies ... OK
* checking whether the package can be unloaded cleanly ... OK
* checking whether the namespace can be loaded with stated dependencies ... OK
* checking whether the namespace can be unloaded cleanly ... OK
* checking files in ‘vignettes’ ... OK
* checking examples ... NONE
* checking for unstated dependencies in vignettes ... OK
* checking package vignettes in ‘inst/doc’ ... OK
* checking running R code from vignettes ... SKIPPED
* checking re-building of vignette outputs ... SKIPPED
* checking PDF version of manual ... OK
* DONE

Status: 2 NOTEs
See
  ‘/home/biocbuild/bbs-3.14-data-experiment/meat/GSE13015.Rcheck/00check.log’
for details.



Installation output

GSE13015.Rcheck/00install.out

##############################################################################
##############################################################################
###
### Running command:
###
###   /home/biocbuild/bbs-3.14-bioc/R/bin/R CMD INSTALL GSE13015
###
##############################################################################
##############################################################################


* installing to library ‘/home/biocbuild/bbs-3.14-bioc/R/library’
* installing *source* package ‘GSE13015’ ...
** using staged installation
** inst
** help
No man pages found in package  ‘GSE13015’ 
*** installing help indices
** building package indices
** installing vignettes
** testing if installed package can be loaded from temporary location
** testing if installed package can be loaded from final location
** testing if installed package keeps a record of temporary installation path
* DONE (GSE13015)

Tests output


Example timings