Back to Build/check report for BioC 3.14 experimental data
ABCDEF[G]HIJKLMNOPQRSTUVWXYZ

This page was generated on 2021-10-23 15:51:47 -0400 (Sat, 23 Oct 2021).

BUILD results for GSE103322 on nebbiolo2

To the developers/maintainers of the GSE103322 package:
Make sure to use the following settings in order to reproduce any error or warning you see on this page.

raw results

Package 149/408HostnameOS / ArchINSTALLBUILDCHECK
GSE103322 0.99.1  (landing page)
Mariano Alvarez
Snapshot Date: 2021-10-23 09:30:01 -0400 (Sat, 23 Oct 2021)
git_url: https://git.bioconductor.org/packages/GSE103322
git_branch: master
git_last_commit: 75650f3
git_last_commit_date: 2021-05-13 12:20:52 -0400 (Thu, 13 May 2021)
nebbiolo2Linux (Ubuntu 20.04.2 LTS) / x86_64  OK    OK    OK  UNNEEDED, same version is already published

Summary

Package: GSE103322
Version: 0.99.1
Command: /home/biocbuild/bbs-3.14-bioc/R/bin/R CMD build --keep-empty-dirs --no-resave-data GSE103322
StartedAt: 2021-10-23 11:22:04 -0400 (Sat, 23 Oct 2021)
EndedAt: 2021-10-23 11:22:26 -0400 (Sat, 23 Oct 2021)
EllapsedTime: 21.9 seconds
RetCode: 0
Status:   OK  
PackageFile: GSE103322_0.99.1.tar.gz
PackageFileSize: 218.7 KiB

Command output

##############################################################################
##############################################################################
###
### Running command:
###
###   /home/biocbuild/bbs-3.14-bioc/R/bin/R CMD build --keep-empty-dirs --no-resave-data GSE103322
###
##############################################################################
##############################################################################


* checking for file ‘GSE103322/DESCRIPTION’ ... OK
* preparing ‘GSE103322’:
* checking DESCRIPTION meta-information ... OK
* installing the package to build vignettes
* creating vignettes ... OK
* checking for LF line-endings in source and make files and shell scripts
* checking for empty or unneeded directories
* building ‘GSE103322_0.99.1.tar.gz’