Back to Build/check report for BioC 3.14 experimental data
ABCDEF[G]HIJKLMNOPQRSTUVWXYZ

This page was generated on 2021-10-21 15:52:03 -0400 (Thu, 21 Oct 2021).

CHECK results for GSBenchMark on nebbiolo2

To the developers/maintainers of the GSBenchMark package:
Make sure to use the following settings in order to reproduce any error or warning you see on this page.

raw results

Package 147/406HostnameOS / ArchINSTALLBUILDCHECK
GSBenchMark 1.13.0  (landing page)
Bahman Afsari
Snapshot Date: 2021-10-21 09:30:01 -0400 (Thu, 21 Oct 2021)
git_url: https://git.bioconductor.org/packages/GSBenchMark
git_branch: master
git_last_commit: a7d2290
git_last_commit_date: 2021-05-19 11:47:47 -0400 (Wed, 19 May 2021)
nebbiolo2Linux (Ubuntu 20.04.2 LTS) / x86_64  OK    OK    OK  UNNEEDED, same version is already published

Summary

Package: GSBenchMark
Version: 1.13.0
Command: /home/biocbuild/bbs-3.14-bioc/R/bin/R CMD check --install=check:GSBenchMark.install-out.txt --library=/home/biocbuild/bbs-3.14-bioc/R/library --no-vignettes --timings GSBenchMark_1.13.0.tar.gz
StartedAt: 2021-10-21 12:20:08 -0400 (Thu, 21 Oct 2021)
EndedAt: 2021-10-21 12:20:32 -0400 (Thu, 21 Oct 2021)
EllapsedTime: 23.6 seconds
RetCode: 0
Status:   OK  
CheckDir: GSBenchMark.Rcheck
Warnings: 0

Command output

##############################################################################
##############################################################################
###
### Running command:
###
###   /home/biocbuild/bbs-3.14-bioc/R/bin/R CMD check --install=check:GSBenchMark.install-out.txt --library=/home/biocbuild/bbs-3.14-bioc/R/library --no-vignettes --timings GSBenchMark_1.13.0.tar.gz
###
##############################################################################
##############################################################################


* using log directory ‘/home/biocbuild/bbs-3.14-data-experiment/meat/GSBenchMark.Rcheck’
* using R version 4.1.1 (2021-08-10)
* using platform: x86_64-pc-linux-gnu (64-bit)
* using session charset: UTF-8
* using option ‘--no-vignettes’
* checking for file ‘GSBenchMark/DESCRIPTION’ ... OK
* this is package ‘GSBenchMark’ version ‘1.13.0’
* checking package namespace information ... OK
* checking package dependencies ... OK
* checking if this is a source package ... OK
* checking if there is a namespace ... OK
* checking for hidden files and directories ... OK
* checking for portable file names ... OK
* checking for sufficient/correct file permissions ... OK
* checking whether package ‘GSBenchMark’ can be installed ... OK
* checking installed package size ... NOTE
  installed size is 41.9Mb
  sub-directories of 1Mb or more:
    data  41.8Mb
* checking package directory ... OK
* checking ‘build’ directory ... OK
* checking DESCRIPTION meta-information ... OK
* checking top-level files ... OK
* checking for left-over files ... OK
* checking index information ... OK
* checking package subdirectories ... OK
* checking whether the package can be loaded ... OK
* checking whether the package can be loaded with stated dependencies ... OK
* checking whether the package can be unloaded cleanly ... OK
* checking whether the namespace can be loaded with stated dependencies ... OK
* checking whether the namespace can be unloaded cleanly ... OK
* checking Rd files ... OK
* checking Rd metadata ... OK
* checking Rd cross-references ... OK
* checking for missing documentation entries ... OK
* checking for code/documentation mismatches ... OK
* checking Rd \usage sections ... OK
* checking Rd contents ... OK
* checking for unstated dependencies in examples ... OK
* checking contents of ‘data’ directory ... OK
* checking data for non-ASCII characters ... OK
* checking data for ASCII and uncompressed saves ... OK
* checking files in ‘vignettes’ ... OK
* checking examples ... OK
* checking for unstated dependencies in vignettes ... OK
* checking package vignettes in ‘inst/doc’ ... OK
* checking running R code from vignettes ... SKIPPED
* checking re-building of vignette outputs ... SKIPPED
* checking PDF version of manual ... OK
* DONE

Status: 1 NOTE
See
  ‘/home/biocbuild/bbs-3.14-data-experiment/meat/GSBenchMark.Rcheck/00check.log’
for details.



Installation output

GSBenchMark.Rcheck/00install.out

##############################################################################
##############################################################################
###
### Running command:
###
###   /home/biocbuild/bbs-3.14-bioc/R/bin/R CMD INSTALL GSBenchMark
###
##############################################################################
##############################################################################


* installing to library ‘/home/biocbuild/bbs-3.14-bioc/R/library’
* installing *source* package ‘GSBenchMark’ ...
** using staged installation
** data
** help
*** installing help indices
** building package indices
** installing vignettes
** testing if installed package can be loaded from temporary location
** testing if installed package can be loaded from final location
** testing if installed package keeps a record of temporary installation path
* DONE (GSBenchMark)

Tests output


Example timings

GSBenchMark.Rcheck/GSBenchMark-Ex.timings

nameusersystemelapsed
GSBenchMarkDatasets0.1800.0120.192
bipolar_GDS21900.1700.0040.173
breast_GDS8070.1630.0120.176
diracpathways0.0060.0000.006
exprsdata0.2650.0160.280
leukemia_GSEA0.1610.0040.165
logexprsdata0.2770.0200.297
marfan_GDS29600.0940.0040.098
melanoma_GDS27350.2410.0080.249
parkinsons_GDS25190.4180.0200.438
phenotypes0.2840.0040.288
prostate_GDS2545_m_nf0.1630.0080.171
prostate_GDS2545_m_p0.3470.0120.360
prostate_GDS2545_p_nf0.2790.0350.314
sarcoma_data0.5340.0480.582
squamous_GDS25200.1720.0240.196