Index of /checkResults/3.14/data-experiment-LATEST/FlowSorted.DLPFC.450k/raw-results/nebbiolo2

[ICO]NameLast modifiedSizeDescription

[DIR]Parent Directory  -  
[TXT]buildsrc-out.txt20-Jan-2022 04:50 894  
[   ]buildsrc-summary.dcf20-Jan-2022 04:50 460  
[TXT]checksrc-out.txt20-Jan-2022 04:50 3.1K 
[   ]checksrc-summary.dcf20-Jan-2022 04:50 486  
[TXT]install-out.txt20-Jan-2022 04:50 1.0K 
[   ]install-summary.dcf20-Jan-2022 04:50 288