Back to Build/check report for BioC 3.14 experimental data
ABCDE[F]GHIJKLMNOPQRSTUVWXYZ

This page was generated on 2021-10-16 15:51:46 -0400 (Sat, 16 Oct 2021).

BUILD results for FlowSorted.CordBloodNorway.450k on nebbiolo2

To the developers/maintainers of the FlowSorted.CordBloodNorway.450k package:
Make sure to use the following settings in order to reproduce any error or warning you see on this page.

raw results

Package 130/404HostnameOS / ArchINSTALLBUILDCHECK
FlowSorted.CordBloodNorway.450k 1.19.0  (landing page)
kristina gervin
Snapshot Date: 2021-10-16 09:30:02 -0400 (Sat, 16 Oct 2021)
git_url: https://git.bioconductor.org/packages/FlowSorted.CordBloodNorway.450k
git_branch: master
git_last_commit: 3c9b600
git_last_commit_date: 2021-05-19 12:00:26 -0400 (Wed, 19 May 2021)
nebbiolo2Linux (Ubuntu 20.04.2 LTS) / x86_64  OK    OK    WARNINGS  UNNEEDED, same version is already published

Summary

Package: FlowSorted.CordBloodNorway.450k
Version: 1.19.0
Command: /home/biocbuild/bbs-3.14-bioc/R/bin/R CMD build --keep-empty-dirs --no-resave-data FlowSorted.CordBloodNorway.450k
StartedAt: 2021-10-16 11:18:26 -0400 (Sat, 16 Oct 2021)
EndedAt: 2021-10-16 11:18:35 -0400 (Sat, 16 Oct 2021)
EllapsedTime: 9.3 seconds
RetCode: 0
Status:   OK  
PackageFile: FlowSorted.CordBloodNorway.450k_1.19.0.tar.gz
PackageFileSize: 163.5 MiB

Command output

##############################################################################
##############################################################################
###
### Running command:
###
###   /home/biocbuild/bbs-3.14-bioc/R/bin/R CMD build --keep-empty-dirs --no-resave-data FlowSorted.CordBloodNorway.450k
###
##############################################################################
##############################################################################


* checking for file ‘FlowSorted.CordBloodNorway.450k/DESCRIPTION’ ... OK
* preparing ‘FlowSorted.CordBloodNorway.450k’:
* checking DESCRIPTION meta-information ... OK
* checking for LF line-endings in source and make files and shell scripts
* checking for empty or unneeded directories
* building ‘FlowSorted.CordBloodNorway.450k_1.19.0.tar.gz’