Back to Build/check report for BioC 3.14 experimental data
ABCDE[F]GHIJKLMNOPQRSTUVWXYZ

This page was generated on 2021-10-23 15:51:46 -0400 (Sat, 23 Oct 2021).

All results for package FlowSorted.CordBloodNorway.450k

To the developers/maintainers of the FlowSorted.CordBloodNorway.450k package:
Make sure to use the following settings in order to reproduce any error or warning you see on this page.

raw results

Package 131/408HostnameOS / ArchINSTALLBUILDCHECK
FlowSorted.CordBloodNorway.450k 1.19.0  (landing page)
kristina gervin
Snapshot Date: 2021-10-23 09:30:01 -0400 (Sat, 23 Oct 2021)
git_url: https://git.bioconductor.org/packages/FlowSorted.CordBloodNorway.450k
git_branch: master
git_last_commit: 3c9b600
git_last_commit_date: 2021-05-19 12:00:26 -0400 (Wed, 19 May 2021)
nebbiolo2Linux (Ubuntu 20.04.2 LTS) / x86_64  OK    OK    WARNINGS  UNNEEDED, same version is already published