Back to Build/check report for BioC 3.14 experimental data
ABCDE[F]GHIJKLMNOPQRSTUVWXYZ

This page was generated on 2021-10-23 15:51:46 -0400 (Sat, 23 Oct 2021).

All results for package FlowSorted.CordBlood.450k

To the developers/maintainers of the FlowSorted.CordBlood.450k package:
Make sure to use the following settings in order to reproduce any error or warning you see on this page.

raw results

Package 129/408HostnameOS / ArchINSTALLBUILDCHECK
FlowSorted.CordBlood.450k 1.21.0  (landing page)
Shan V. Andrews
Snapshot Date: 2021-10-23 09:30:01 -0400 (Sat, 23 Oct 2021)
git_url: https://git.bioconductor.org/packages/FlowSorted.CordBlood.450k
git_branch: master
git_last_commit: 0f6db89
git_last_commit_date: 2021-05-19 11:55:58 -0400 (Wed, 19 May 2021)
nebbiolo2Linux (Ubuntu 20.04.2 LTS) / x86_64  OK    OK    WARNINGS  UNNEEDED, same version is already published