Index of /checkResults/3.14/data-experiment-LATEST/FlowSorted.Blood.EPIC/raw-results

[ICO]NameLast modifiedSizeDescription

[DIR]Parent Directory  -  
[   ]info.dcf02-Dec-2021 08:35 313  
[DIR]nebbiolo2/02-Dec-2021 08:35 -