Back to Build/check report for BioC 3.14 experimental data
ABCDE[F]GHIJKLMNOPQRSTUVWXYZ

This page was generated on 2021-12-01 18:35:25 -0500 (Wed, 01 Dec 2021).

INSTALL results for FlowSorted.Blood.EPIC on nebbiolo2

To the developers/maintainers of the FlowSorted.Blood.EPIC package:
Make sure to use the following settings in order to reproduce any error or warning you see on this page.

raw results

Package 128/408HostnameOS / ArchINSTALLBUILDCHECK
FlowSorted.Blood.EPIC 1.12.1  (landing page)
Lucas A. Salas
Snapshot Date: 2021-12-01 08:30:01 -0500 (Wed, 01 Dec 2021)
git_url: https://git.bioconductor.org/packages/FlowSorted.Blood.EPIC
git_branch: RELEASE_3_14
git_last_commit: 6dd670b
git_last_commit_date: 2021-10-27 09:45:17 -0500 (Wed, 27 Oct 2021)
nebbiolo2Linux (Ubuntu 20.04.3 LTS) / x86_64  OK    OK    OK  UNNEEDED, same version is already published

Summary

Package: FlowSorted.Blood.EPIC
Version: 1.12.1
Command: /home/biocbuild/bbs-3.14-bioc/R/bin/R CMD INSTALL FlowSorted.Blood.EPIC
StartedAt: 2021-12-01 14:04:45 -0500 (Wed, 01 Dec 2021)
EndedAt: 2021-12-01 14:05:18 -0500 (Wed, 01 Dec 2021)
EllapsedTime: 32.2 seconds
RetCode: 0
Status:   OK  

Command output

##############################################################################
##############################################################################
###
### Running command:
###
###   /home/biocbuild/bbs-3.14-bioc/R/bin/R CMD INSTALL FlowSorted.Blood.EPIC
###
##############################################################################
##############################################################################


* installing to library ‘/home/biocbuild/bbs-3.14-bioc/R/library’
* installing *source* package ‘FlowSorted.Blood.EPIC’ ...
** using staged installation
** R
** data
*** moving datasets to lazyload DB
** inst
** byte-compile and prepare package for lazy loading
** help
*** installing help indices
** building package indices
** installing vignettes
** testing if installed package can be loaded from temporary location
** testing if installed package can be loaded from final location
** testing if installed package keeps a record of temporary installation path
* DONE (FlowSorted.Blood.EPIC)