Back to Build/check report for BioC 3.14 experimental data
ABCDE[F]GHIJKLMNOPQRSTUVWXYZ

This page was generated on 2021-10-21 15:52:03 -0400 (Thu, 21 Oct 2021).

BUILD results for Fletcher2013a on nebbiolo2

To the developers/maintainers of the Fletcher2013a package:
Make sure to use the following settings in order to reproduce any error or warning you see on this page.

raw results

Package 123/406HostnameOS / ArchINSTALLBUILDCHECK
Fletcher2013a 1.29.0  (landing page)
Mauro Castro
Snapshot Date: 2021-10-21 09:30:01 -0400 (Thu, 21 Oct 2021)
git_url: https://git.bioconductor.org/packages/Fletcher2013a
git_branch: master
git_last_commit: 7ee7fcc
git_last_commit_date: 2021-05-19 11:43:11 -0400 (Wed, 19 May 2021)
nebbiolo2Linux (Ubuntu 20.04.2 LTS) / x86_64  OK    OK    OK  UNNEEDED, same version is already published

Summary

Package: Fletcher2013a
Version: 1.29.0
Command: /home/biocbuild/bbs-3.14-bioc/R/bin/R CMD build --keep-empty-dirs --no-resave-data Fletcher2013a
StartedAt: 2021-10-21 11:18:43 -0400 (Thu, 21 Oct 2021)
EndedAt: 2021-10-21 11:18:57 -0400 (Thu, 21 Oct 2021)
EllapsedTime: 14.1 seconds
RetCode: 0
Status:   OK  
PackageFile: Fletcher2013a_1.29.0.tar.gz
PackageFileSize: 73.22 MiB

Command output

##############################################################################
##############################################################################
###
### Running command:
###
###   /home/biocbuild/bbs-3.14-bioc/R/bin/R CMD build --keep-empty-dirs --no-resave-data Fletcher2013a
###
##############################################################################
##############################################################################


* checking for file ‘Fletcher2013a/DESCRIPTION’ ... OK
* preparing ‘Fletcher2013a’:
* checking DESCRIPTION meta-information ... OK
* installing the package to build vignettes
* creating vignettes ... OK
* checking for LF line-endings in source and make files and shell scripts
* checking for empty or unneeded directories
* looking to see if a ‘data/datalist’ file should be added
* building ‘Fletcher2013a_1.29.0.tar.gz’