Back to Build/check report for BioC 3.14 experimental data
ABCDE[F]GHIJKLMNOPQRSTUVWXYZ

This page was generated on 2021-10-23 15:51:47 -0400 (Sat, 23 Oct 2021).

BUILD results for FIs on nebbiolo2

To the developers/maintainers of the FIs package:
Make sure to use the following settings in order to reproduce any error or warning you see on this page.

raw results

Package 122/408HostnameOS / ArchINSTALLBUILDCHECK
FIs 1.21.0  (landing page)
Herbert Braselmann , Martin Selmansberger
Snapshot Date: 2021-10-23 09:30:01 -0400 (Sat, 23 Oct 2021)
git_url: https://git.bioconductor.org/packages/FIs
git_branch: master
git_last_commit: 4cdc1c7
git_last_commit_date: 2021-05-19 11:53:50 -0400 (Wed, 19 May 2021)
nebbiolo2Linux (Ubuntu 20.04.2 LTS) / x86_64  OK    OK    OK  UNNEEDED, same version is already published

Summary

Package: FIs
Version: 1.21.0
Command: /home/biocbuild/bbs-3.14-bioc/R/bin/R CMD build --keep-empty-dirs --no-resave-data FIs
StartedAt: 2021-10-23 11:19:02 -0400 (Sat, 23 Oct 2021)
EndedAt: 2021-10-23 11:19:03 -0400 (Sat, 23 Oct 2021)
EllapsedTime: 0.4 seconds
RetCode: 0
Status:   OK  
PackageFile: FIs_1.21.0.tar.gz
PackageFileSize: 622.8 KiB

Command output

##############################################################################
##############################################################################
###
### Running command:
###
###   /home/biocbuild/bbs-3.14-bioc/R/bin/R CMD build --keep-empty-dirs --no-resave-data FIs
###
##############################################################################
##############################################################################


* checking for file ‘FIs/DESCRIPTION’ ... OK
* preparing ‘FIs’:
* checking DESCRIPTION meta-information ... OK
* checking for LF line-endings in source and make files and shell scripts
* checking for empty or unneeded directories
* looking to see if a ‘data/datalist’ file should be added
* building ‘FIs_1.21.0.tar.gz’