Back to Build/check report for BioC 3.14 experimental data
ABCD[E]FGHIJKLMNOPQRSTUVWXYZ

This page was generated on 2021-10-16 15:51:46 -0400 (Sat, 16 Oct 2021).

BUILD results for EatonEtAlChIPseq on nebbiolo2

To the developers/maintainers of the EatonEtAlChIPseq package:
Make sure to use the following settings in order to reproduce any error or warning you see on this page.

raw results

Package 107/404HostnameOS / ArchINSTALLBUILDCHECK
EatonEtAlChIPseq 0.31.0  (landing page)
Patrick Aboyoun
Snapshot Date: 2021-10-16 09:30:02 -0400 (Sat, 16 Oct 2021)
git_url: https://git.bioconductor.org/packages/EatonEtAlChIPseq
git_branch: master
git_last_commit: e72bb5f
git_last_commit_date: 2021-05-19 11:30:41 -0400 (Wed, 19 May 2021)
nebbiolo2Linux (Ubuntu 20.04.2 LTS) / x86_64  OK    OK    WARNINGS  UNNEEDED, same version is already published

Summary

Package: EatonEtAlChIPseq
Version: 0.31.0
Command: /home/biocbuild/bbs-3.14-bioc/R/bin/R CMD build --keep-empty-dirs --no-resave-data EatonEtAlChIPseq
StartedAt: 2021-10-16 11:16:47 -0400 (Sat, 16 Oct 2021)
EndedAt: 2021-10-16 11:16:49 -0400 (Sat, 16 Oct 2021)
EllapsedTime: 1.3 seconds
RetCode: 0
Status:   OK  
PackageFile: EatonEtAlChIPseq_0.31.0.tar.gz
PackageFileSize: 20.5 MiB

Command output

##############################################################################
##############################################################################
###
### Running command:
###
###   /home/biocbuild/bbs-3.14-bioc/R/bin/R CMD build --keep-empty-dirs --no-resave-data EatonEtAlChIPseq
###
##############################################################################
##############################################################################


* checking for file ‘EatonEtAlChIPseq/DESCRIPTION’ ... OK
* preparing ‘EatonEtAlChIPseq’:
* checking DESCRIPTION meta-information ... OK
* checking for LF line-endings in source and make files and shell scripts
* checking for empty or unneeded directories
* looking to see if a ‘data/datalist’ file should be added
* building ‘EatonEtAlChIPseq_0.31.0.tar.gz’