Back to Build/check report for BioC 3.14 experimental data
ABCD[E]FGHIJKLMNOPQRSTUVWXYZ

This page was generated on 2021-10-23 15:51:46 -0400 (Sat, 23 Oct 2021).

All results for package EatonEtAlChIPseq

To the developers/maintainers of the EatonEtAlChIPseq package:
Make sure to use the following settings in order to reproduce any error or warning you see on this page.

raw results

Package 108/408HostnameOS / ArchINSTALLBUILDCHECK
EatonEtAlChIPseq 0.31.0  (landing page)
Patrick Aboyoun
Snapshot Date: 2021-10-23 09:30:01 -0400 (Sat, 23 Oct 2021)
git_url: https://git.bioconductor.org/packages/EatonEtAlChIPseq
git_branch: master
git_last_commit: e72bb5f
git_last_commit_date: 2021-05-19 11:30:41 -0400 (Wed, 19 May 2021)
nebbiolo2Linux (Ubuntu 20.04.2 LTS) / x86_64  OK    OK    WARNINGS  UNNEEDED, same version is already published