Back to Build/check report for BioC 3.14 experimental data
ABCD[E]FGHIJKLMNOPQRSTUVWXYZ

This page was generated on 2021-10-19 15:52:17 -0400 (Tue, 19 Oct 2021).

CHECK results for EGSEAdata on nebbiolo2

To the developers/maintainers of the EGSEAdata package:
Make sure to use the following settings in order to reproduce any error or warning you see on this page.

raw results

Package 109/404HostnameOS / ArchINSTALLBUILDCHECK
EGSEAdata 1.21.0  (landing page)
Monther Alhamdoosh
Snapshot Date: 2021-10-19 09:30:02 -0400 (Tue, 19 Oct 2021)
git_url: https://git.bioconductor.org/packages/EGSEAdata
git_branch: master
git_last_commit: 681c1f9
git_last_commit_date: 2021-05-19 11:57:17 -0400 (Wed, 19 May 2021)
nebbiolo2Linux (Ubuntu 20.04.2 LTS) / x86_64  OK    OK    OK  UNNEEDED, same version is already published

Summary

Package: EGSEAdata
Version: 1.21.0
Command: /home/biocbuild/bbs-3.14-bioc/R/bin/R CMD check --install=check:EGSEAdata.install-out.txt --library=/home/biocbuild/bbs-3.14-bioc/R/library --no-vignettes --timings EGSEAdata_1.21.0.tar.gz
StartedAt: 2021-10-19 12:15:20 -0400 (Tue, 19 Oct 2021)
EndedAt: 2021-10-19 12:16:00 -0400 (Tue, 19 Oct 2021)
EllapsedTime: 39.9 seconds
RetCode: 0
Status:   OK  
CheckDir: EGSEAdata.Rcheck
Warnings: 0

Command output

##############################################################################
##############################################################################
###
### Running command:
###
###   /home/biocbuild/bbs-3.14-bioc/R/bin/R CMD check --install=check:EGSEAdata.install-out.txt --library=/home/biocbuild/bbs-3.14-bioc/R/library --no-vignettes --timings EGSEAdata_1.21.0.tar.gz
###
##############################################################################
##############################################################################


* using log directory ‘/home/biocbuild/bbs-3.14-data-experiment/meat/EGSEAdata.Rcheck’
* using R version 4.1.1 (2021-08-10)
* using platform: x86_64-pc-linux-gnu (64-bit)
* using session charset: UTF-8
* using option ‘--no-vignettes’
* checking for file ‘EGSEAdata/DESCRIPTION’ ... OK
* this is package ‘EGSEAdata’ version ‘1.21.0’
* checking package namespace information ... OK
* checking package dependencies ... OK
* checking if this is a source package ... OK
* checking if there is a namespace ... OK
* checking for hidden files and directories ... OK
* checking for portable file names ... OK
* checking for sufficient/correct file permissions ... OK
* checking whether package ‘EGSEAdata’ can be installed ... OK
* checking installed package size ... NOTE
  installed size is 66.8Mb
  sub-directories of 1Mb or more:
    data  66.7Mb
* checking package directory ... OK
* checking DESCRIPTION meta-information ... OK
* checking top-level files ... OK
* checking for left-over files ... OK
* checking index information ... OK
* checking package subdirectories ... OK
* checking R files for non-ASCII characters ... OK
* checking R files for syntax errors ... OK
* checking whether the package can be loaded ... OK
* checking whether the package can be loaded with stated dependencies ... OK
* checking whether the package can be unloaded cleanly ... OK
* checking whether the namespace can be loaded with stated dependencies ... OK
* checking whether the namespace can be unloaded cleanly ... OK
* checking dependencies in R code ... OK
* checking S3 generic/method consistency ... OK
* checking replacement functions ... OK
* checking foreign function calls ... OK
* checking R code for possible problems ... NOTE
egseaData.info: no visible global function definition for ‘data’
egseaData.info: no visible binding for global variable ‘kegg.pathways’
egseaData.info: no visible binding for global variable ‘msigdb’
Undefined global functions or variables:
  data kegg.pathways msigdb
Consider adding
  importFrom("utils", "data")
to your NAMESPACE file.
* checking Rd files ... OK
* checking Rd metadata ... OK
* checking Rd cross-references ... OK
* checking for missing documentation entries ... OK
* checking for code/documentation mismatches ... OK
* checking Rd \usage sections ... OK
* checking Rd contents ... OK
* checking for unstated dependencies in examples ... OK
* checking contents of ‘data’ directory ... OK
* checking data for non-ASCII characters ... NOTE
  Note: found 2307 marked UTF-8 strings
* checking data for ASCII and uncompressed saves ... OK
* checking examples ... OK
* checking PDF version of manual ... OK
* DONE

Status: 3 NOTEs
See
  ‘/home/biocbuild/bbs-3.14-data-experiment/meat/EGSEAdata.Rcheck/00check.log’
for details.



Installation output

EGSEAdata.Rcheck/00install.out

##############################################################################
##############################################################################
###
### Running command:
###
###   /home/biocbuild/bbs-3.14-bioc/R/bin/R CMD INSTALL EGSEAdata
###
##############################################################################
##############################################################################


* installing to library ‘/home/biocbuild/bbs-3.14-bioc/R/library’
* installing *source* package ‘EGSEAdata’ ...
** using staged installation
** R
** data
** byte-compile and prepare package for lazy loading
** help
*** installing help indices
** building package indices
** testing if installed package can be loaded from temporary location
** testing if installed package can be loaded from final location
** testing if installed package keeps a record of temporary installation path
* DONE (EGSEAdata)

Tests output


Example timings

EGSEAdata.Rcheck/EGSEAdata-Ex.timings

nameusersystemelapsed
egsea.data1.7800.0761.856