Back to Build/check report for BioC 3.14 experimental data
ABC[D]EFGHIJKLMNOPQRSTUVWXYZ

This page was generated on 2021-10-19 15:52:17 -0400 (Tue, 19 Oct 2021).

BUILD results for DvDdata on nebbiolo2

To the developers/maintainers of the DvDdata package:
Make sure to use the following settings in order to reproduce any error or warning you see on this page.

raw results

Package 105/404HostnameOS / ArchINSTALLBUILDCHECK
DvDdata 1.29.0  (landing page)
J. Saez-Rodriguez
Snapshot Date: 2021-10-19 09:30:02 -0400 (Tue, 19 Oct 2021)
git_url: https://git.bioconductor.org/packages/DvDdata
git_branch: master
git_last_commit: 2e992d0
git_last_commit_date: 2021-05-19 11:39:04 -0400 (Wed, 19 May 2021)
nebbiolo2Linux (Ubuntu 20.04.2 LTS) / x86_64  OK    OK    WARNINGS  UNNEEDED, same version is already published

Summary

Package: DvDdata
Version: 1.29.0
Command: /home/biocbuild/bbs-3.14-bioc/R/bin/R CMD build --keep-empty-dirs --no-resave-data DvDdata
StartedAt: 2021-10-19 11:17:11 -0400 (Tue, 19 Oct 2021)
EndedAt: 2021-10-19 11:17:35 -0400 (Tue, 19 Oct 2021)
EllapsedTime: 23.7 seconds
RetCode: 0
Status:   OK  
PackageFile: DvDdata_1.29.0.tar.gz
PackageFileSize: 43.82 MiB

Command output

##############################################################################
##############################################################################
###
### Running command:
###
###   /home/biocbuild/bbs-3.14-bioc/R/bin/R CMD build --keep-empty-dirs --no-resave-data DvDdata
###
##############################################################################
##############################################################################


* checking for file ‘DvDdata/DESCRIPTION’ ... OK
* preparing ‘DvDdata’:
* checking DESCRIPTION meta-information ... OK
* installing the package to build vignettes
* creating vignettes ... OK
* checking for LF line-endings in source and make files and shell scripts
* checking for empty or unneeded directories
* building ‘DvDdata_1.29.0.tar.gz’