Back to Build/check report for BioC 3.14 experimental data
ABC[D]EFGHIJKLMNOPQRSTUVWXYZ

This page was generated on 2021-10-16 15:51:45 -0400 (Sat, 16 Oct 2021).

All results for package DuoClustering2018

To the developers/maintainers of the DuoClustering2018 package:
Make sure to use the following settings in order to reproduce any error or warning you see on this page.

raw results

Package 104/404HostnameOS / ArchINSTALLBUILDCHECK
DuoClustering2018 1.11.0  (landing page)
Angelo Duò
Snapshot Date: 2021-10-16 09:30:02 -0400 (Sat, 16 Oct 2021)
git_url: https://git.bioconductor.org/packages/DuoClustering2018
git_branch: master
git_last_commit: c9d35a7
git_last_commit_date: 2021-05-19 12:05:28 -0400 (Wed, 19 May 2021)
nebbiolo2Linux (Ubuntu 20.04.2 LTS) / x86_64  OK    OK    OK  UNNEEDED, same version is already published