Back to Build/check report for BioC 3.14 experimental data
ABC[D]EFGHIJKLMNOPQRSTUVWXYZ

This page was generated on 2021-10-23 15:51:47 -0400 (Sat, 23 Oct 2021).

BUILD results for DrugVsDiseasedata on nebbiolo2

To the developers/maintainers of the DrugVsDiseasedata package:
Make sure to use the following settings in order to reproduce any error or warning you see on this page.

raw results

Package 103/408HostnameOS / ArchINSTALLBUILDCHECK
DrugVsDiseasedata 1.29.0  (landing page)
J. Saez-Rodriguez
Snapshot Date: 2021-10-23 09:30:01 -0400 (Sat, 23 Oct 2021)
git_url: https://git.bioconductor.org/packages/DrugVsDiseasedata
git_branch: master
git_last_commit: 297d236
git_last_commit_date: 2021-05-19 11:39:41 -0400 (Wed, 19 May 2021)
nebbiolo2Linux (Ubuntu 20.04.2 LTS) / x86_64  OK    OK    OK  UNNEEDED, same version is already published

Summary

Package: DrugVsDiseasedata
Version: 1.29.0
Command: /home/biocbuild/bbs-3.14-bioc/R/bin/R CMD build --keep-empty-dirs --no-resave-data DrugVsDiseasedata
StartedAt: 2021-10-23 11:17:23 -0400 (Sat, 23 Oct 2021)
EndedAt: 2021-10-23 11:17:26 -0400 (Sat, 23 Oct 2021)
EllapsedTime: 3.4 seconds
RetCode: 0
Status:   OK  
PackageFile: DrugVsDiseasedata_1.29.0.tar.gz
PackageFileSize: 4.037 MiB

Command output

##############################################################################
##############################################################################
###
### Running command:
###
###   /home/biocbuild/bbs-3.14-bioc/R/bin/R CMD build --keep-empty-dirs --no-resave-data DrugVsDiseasedata
###
##############################################################################
##############################################################################


* checking for file ‘DrugVsDiseasedata/DESCRIPTION’ ... OK
* preparing ‘DrugVsDiseasedata’:
* checking DESCRIPTION meta-information ... OK
* installing the package to build vignettes
* creating vignettes ... OK
* checking for LF line-endings in source and make files and shell scripts
* checking for empty or unneeded directories
* building ‘DrugVsDiseasedata_1.29.0.tar.gz’