Back to Build/check report for BioC 3.14 experimental data
ABC[D]EFGHIJKLMNOPQRSTUVWXYZ

This page was generated on 2021-10-23 15:51:47 -0400 (Sat, 23 Oct 2021).

BUILD results for DropletTestFiles on nebbiolo2

To the developers/maintainers of the DropletTestFiles package:
Make sure to use the following settings in order to reproduce any error or warning you see on this page.

raw results

Package 102/408HostnameOS / ArchINSTALLBUILDCHECK
DropletTestFiles 1.3.0  (landing page)
Aaron Lun
Snapshot Date: 2021-10-23 09:30:01 -0400 (Sat, 23 Oct 2021)
git_url: https://git.bioconductor.org/packages/DropletTestFiles
git_branch: master
git_last_commit: a0bfb0b
git_last_commit_date: 2021-05-19 12:11:00 -0400 (Wed, 19 May 2021)
nebbiolo2Linux (Ubuntu 20.04.2 LTS) / x86_64  OK    OK    OK  UNNEEDED, same version is already published

Summary

Package: DropletTestFiles
Version: 1.3.0
Command: /home/biocbuild/bbs-3.14-bioc/R/bin/R CMD build --keep-empty-dirs --no-resave-data DropletTestFiles
StartedAt: 2021-10-23 11:17:16 -0400 (Sat, 23 Oct 2021)
EndedAt: 2021-10-23 11:17:48 -0400 (Sat, 23 Oct 2021)
EllapsedTime: 31.5 seconds
RetCode: 0
Status:   OK  
PackageFile: DropletTestFiles_1.3.0.tar.gz
PackageFileSize: 226.5 KiB

Command output

##############################################################################
##############################################################################
###
### Running command:
###
###   /home/biocbuild/bbs-3.14-bioc/R/bin/R CMD build --keep-empty-dirs --no-resave-data DropletTestFiles
###
##############################################################################
##############################################################################


* checking for file ‘DropletTestFiles/DESCRIPTION’ ... OK
* preparing ‘DropletTestFiles’:
* checking DESCRIPTION meta-information ... OK
* installing the package to build vignettes
* creating vignettes ... OK
* checking for LF line-endings in source and make files and shell scripts
* checking for empty or unneeded directories
* building ‘DropletTestFiles_1.3.0.tar.gz’