Back to Build/check report for BioC 3.14 experimental data
ABC[D]EFGHIJKLMNOPQRSTUVWXYZ

This page was generated on 2021-10-16 15:51:46 -0400 (Sat, 16 Oct 2021).

BUILD results for DonaPLLP2013 on nebbiolo2

To the developers/maintainers of the DonaPLLP2013 package:
Make sure to use the following settings in order to reproduce any error or warning you see on this page.

raw results

Package 98/404HostnameOS / ArchINSTALLBUILDCHECK
DonaPLLP2013 1.31.0  (landing page)
Joseph D. Barry
Snapshot Date: 2021-10-16 09:30:02 -0400 (Sat, 16 Oct 2021)
git_url: https://git.bioconductor.org/packages/DonaPLLP2013
git_branch: master
git_last_commit: 74e2873
git_last_commit_date: 2021-05-19 11:42:46 -0400 (Wed, 19 May 2021)
nebbiolo2Linux (Ubuntu 20.04.2 LTS) / x86_64  OK    OK    OK  UNNEEDED, same version is already published

Summary

Package: DonaPLLP2013
Version: 1.31.0
Command: /home/biocbuild/bbs-3.14-bioc/R/bin/R CMD build --keep-empty-dirs --no-resave-data DonaPLLP2013
StartedAt: 2021-10-16 11:16:21 -0400 (Sat, 16 Oct 2021)
EndedAt: 2021-10-16 11:20:51 -0400 (Sat, 16 Oct 2021)
EllapsedTime: 269.7 seconds
RetCode: 0
Status:   OK  
PackageFile: DonaPLLP2013_1.31.0.tar.gz
PackageFileSize: 93.85 MiB

Command output

##############################################################################
##############################################################################
###
### Running command:
###
###   /home/biocbuild/bbs-3.14-bioc/R/bin/R CMD build --keep-empty-dirs --no-resave-data DonaPLLP2013
###
##############################################################################
##############################################################################


* checking for file ‘DonaPLLP2013/DESCRIPTION’ ... OK
* preparing ‘DonaPLLP2013’:
* checking DESCRIPTION meta-information ... OK
* installing the package to build vignettes
* creating vignettes ... OK
* checking for LF line-endings in source and make files and shell scripts
* checking for empty or unneeded directories
* looking to see if a ‘data/datalist’ file should be added
* building ‘DonaPLLP2013_1.31.0.tar.gz’