Back to Build/check report for BioC 3.14 experimental data
ABC[D]EFGHIJKLMNOPQRSTUVWXYZ

This page was generated on 2021-10-26 15:52:18 -0400 (Tue, 26 Oct 2021).

BUILD results for DmelSGI on nebbiolo2

To the developers/maintainers of the DmelSGI package:
Make sure to use the following settings in order to reproduce any error or warning you see on this page.

raw results

Package 96/408HostnameOS / ArchINSTALLBUILDCHECK
DmelSGI 1.25.1  (landing page)
Mike Smith
Snapshot Date: 2021-10-26 09:30:02 -0400 (Tue, 26 Oct 2021)
git_url: https://git.bioconductor.org/packages/DmelSGI
git_branch: master
git_last_commit: 0887b97
git_last_commit_date: 2021-09-29 08:10:56 -0400 (Wed, 29 Sep 2021)
nebbiolo2Linux (Ubuntu 20.04.2 LTS) / x86_64  OK    OK    OK  UNNEEDED, same version is already published

Summary

Package: DmelSGI
Version: 1.25.1
Command: /home/biocbuild/bbs-3.14-bioc/R/bin/R CMD build --keep-empty-dirs --no-resave-data DmelSGI
StartedAt: 2021-10-26 11:17:32 -0400 (Tue, 26 Oct 2021)
EndedAt: 2021-10-26 11:21:32 -0400 (Tue, 26 Oct 2021)
EllapsedTime: 239.1 seconds
RetCode: 0
Status:   OK  
PackageFile: DmelSGI_1.25.1.tar.gz
PackageFileSize: 173.9 MiB

Command output

##############################################################################
##############################################################################
###
### Running command:
###
###   /home/biocbuild/bbs-3.14-bioc/R/bin/R CMD build --keep-empty-dirs --no-resave-data DmelSGI
###
##############################################################################
##############################################################################


* checking for file ‘DmelSGI/DESCRIPTION’ ... OK
* preparing ‘DmelSGI’:
* checking DESCRIPTION meta-information ... OK
* installing the package to build vignettes
* creating vignettes ... OK
* checking for LF line-endings in source and make files and shell scripts
* checking for empty or unneeded directories
* looking to see if a ‘data/datalist’ file should be added
* building ‘DmelSGI_1.25.1.tar.gz’