Back to Build/check report for BioC 3.14 experimental data
ABC[D]EFGHIJKLMNOPQRSTUVWXYZ

This page was generated on 2021-10-21 15:52:02 -0400 (Thu, 21 Oct 2021).

All results for package DmelSGI

To the developers/maintainers of the DmelSGI package:
Make sure to use the following settings in order to reproduce any error or warning you see on this page.

raw results

Package 96/406HostnameOS / ArchINSTALLBUILDCHECK
DmelSGI 1.25.1  (landing page)
Mike Smith
Snapshot Date: 2021-10-21 09:30:01 -0400 (Thu, 21 Oct 2021)
git_url: https://git.bioconductor.org/packages/DmelSGI
git_branch: master
git_last_commit: 0887b97
git_last_commit_date: 2021-09-29 08:10:56 -0400 (Wed, 29 Sep 2021)
nebbiolo2Linux (Ubuntu 20.04.2 LTS) / x86_64  OK    OK    OK  UNNEEDED, same version is already published