Back to Build/check report for BioC 3.14 experimental data
ABC[D]EFGHIJKLMNOPQRSTUVWXYZ

This page was generated on 2021-10-23 15:51:46 -0400 (Sat, 23 Oct 2021).

All results for package DREAM4

To the developers/maintainers of the DREAM4 package:
Make sure to use the following settings in order to reproduce any error or warning you see on this page.

raw results

Package 100/408HostnameOS / ArchINSTALLBUILDCHECK
DREAM4 1.29.0  (landing page)
Paul Shannon
Snapshot Date: 2021-10-23 09:30:01 -0400 (Sat, 23 Oct 2021)
git_url: https://git.bioconductor.org/packages/DREAM4
git_branch: master
git_last_commit: fd5745f
git_last_commit_date: 2021-05-19 11:39:37 -0400 (Wed, 19 May 2021)
nebbiolo2Linux (Ubuntu 20.04.2 LTS) / x86_64  OK    OK    WARNINGS  UNNEEDED, same version is already published