Back to Build/check report for BioC 3.14 experimental data
ABC[D]EFGHIJKLMNOPQRSTUVWXYZ

This page was generated on 2021-10-16 15:51:46 -0400 (Sat, 16 Oct 2021).

BUILD results for DMRcatedata on nebbiolo2

To the developers/maintainers of the DMRcatedata package:
Make sure to use the following settings in order to reproduce any error or warning you see on this page.

raw results

Package 97/404HostnameOS / ArchINSTALLBUILDCHECK
DMRcatedata 2.11.0  (landing page)
Tim Peters
Snapshot Date: 2021-10-16 09:30:02 -0400 (Sat, 16 Oct 2021)
git_url: https://git.bioconductor.org/packages/DMRcatedata
git_branch: master
git_last_commit: 2304a57
git_last_commit_date: 2021-05-19 11:46:26 -0400 (Wed, 19 May 2021)
nebbiolo2Linux (Ubuntu 20.04.2 LTS) / x86_64  OK    OK    OK  UNNEEDED, same version is already published

Summary

Package: DMRcatedata
Version: 2.11.0
Command: /home/biocbuild/bbs-3.14-bioc/R/bin/R CMD build --keep-empty-dirs --no-resave-data DMRcatedata
StartedAt: 2021-10-16 11:16:07 -0400 (Sat, 16 Oct 2021)
EndedAt: 2021-10-16 11:16:47 -0400 (Sat, 16 Oct 2021)
EllapsedTime: 40.4 seconds
RetCode: 0
Status:   OK  
PackageFile: DMRcatedata_2.11.0.tar.gz
PackageFileSize: 100.1 KiB

Command output

##############################################################################
##############################################################################
###
### Running command:
###
###   /home/biocbuild/bbs-3.14-bioc/R/bin/R CMD build --keep-empty-dirs --no-resave-data DMRcatedata
###
##############################################################################
##############################################################################


* checking for file ‘DMRcatedata/DESCRIPTION’ ... OK
* preparing ‘DMRcatedata’:
* checking DESCRIPTION meta-information ... OK
* installing the package to build vignettes
* creating vignettes ... OK
* checking for LF line-endings in source and make files and shell scripts
* checking for empty or unneeded directories
Omitted ‘LazyData’ from DESCRIPTION
* building ‘DMRcatedata_2.11.0.tar.gz’