Back to Build/check report for BioC 3.14 experimental data
ABC[D]EFGHIJKLMNOPQRSTUVWXYZ

This page was generated on 2021-10-21 15:52:03 -0400 (Thu, 21 Oct 2021).

INSTALL results for DAPARdata on nebbiolo2

To the developers/maintainers of the DAPARdata package:
Make sure to use the following settings in order to reproduce any error or warning you see on this page.

raw results

Package 87/406HostnameOS / ArchINSTALLBUILDCHECK
DAPARdata 1.23.4  (landing page)
Samuel Wieczorek
Snapshot Date: 2021-10-21 09:30:01 -0400 (Thu, 21 Oct 2021)
git_url: https://git.bioconductor.org/packages/DAPARdata
git_branch: master
git_last_commit: 014d570
git_last_commit_date: 2021-10-21 01:37:27 -0400 (Thu, 21 Oct 2021)
nebbiolo2Linux (Ubuntu 20.04.2 LTS) / x86_64  OK    OK    WARNINGS  YES

Summary

Package: DAPARdata
Version: 1.23.4
Command: /home/biocbuild/bbs-3.14-bioc/R/bin/R CMD INSTALL DAPARdata
StartedAt: 2021-10-21 11:05:20 -0400 (Thu, 21 Oct 2021)
EndedAt: 2021-10-21 11:05:32 -0400 (Thu, 21 Oct 2021)
EllapsedTime: 11.6 seconds
RetCode: 0
Status:   OK  

Command output

##############################################################################
##############################################################################
###
### Running command:
###
###   /home/biocbuild/bbs-3.14-bioc/R/bin/R CMD INSTALL DAPARdata
###
##############################################################################
##############################################################################


* installing to library ‘/home/biocbuild/bbs-3.14-bioc/R/library’
* installing *source* package ‘DAPARdata’ ...
** using staged installation
** R
** data
** inst
** byte-compile and prepare package for lazy loading
** help
*** installing help indices
** building package indices
** testing if installed package can be loaded from temporary location
** testing if installed package can be loaded from final location
** testing if installed package keeps a record of temporary installation path
* DONE (DAPARdata)