Back to Build/check report for BioC 3.14 experimental data
ABC[D]EFGHIJKLMNOPQRSTUVWXYZ

This page was generated on 2021-10-23 15:51:46 -0400 (Sat, 23 Oct 2021).

All results for package DAPARdata

To the developers/maintainers of the DAPARdata package:
Make sure to use the following settings in order to reproduce any error or warning you see on this page.

raw results

Package 87/408HostnameOS / ArchINSTALLBUILDCHECK
DAPARdata 1.23.4  (landing page)
Samuel Wieczorek
Snapshot Date: 2021-10-23 09:30:01 -0400 (Sat, 23 Oct 2021)
git_url: https://git.bioconductor.org/packages/DAPARdata
git_branch: master
git_last_commit: 014d570
git_last_commit_date: 2021-10-21 01:37:27 -0400 (Thu, 21 Oct 2021)
nebbiolo2Linux (Ubuntu 20.04.2 LTS) / x86_64  OK    OK    WARNINGS  UNNEEDED, same version is already published