Back to Build/check report for BioC 3.14 experimental data
AB[C]DEFGHIJKLMNOPQRSTUVWXYZ

This page was generated on 2021-10-26 15:52:18 -0400 (Tue, 26 Oct 2021).

BUILD results for CopyhelpeR on nebbiolo2

To the developers/maintainers of the CopyhelpeR package:
Make sure to use the following settings in order to reproduce any error or warning you see on this page.

raw results

Package 73/408HostnameOS / ArchINSTALLBUILDCHECK
CopyhelpeR 1.25.0  (landing page)
Oscar Krijgsman
Snapshot Date: 2021-10-26 09:30:02 -0400 (Tue, 26 Oct 2021)
git_url: https://git.bioconductor.org/packages/CopyhelpeR
git_branch: master
git_last_commit: ea5d25a
git_last_commit_date: 2021-05-19 11:51:01 -0400 (Wed, 19 May 2021)
nebbiolo2Linux (Ubuntu 20.04.2 LTS) / x86_64  OK    OK    OK  UNNEEDED, same version is already published

Summary

Package: CopyhelpeR
Version: 1.25.0
Command: /home/biocbuild/bbs-3.14-bioc/R/bin/R CMD build --keep-empty-dirs --no-resave-data CopyhelpeR
StartedAt: 2021-10-26 11:14:33 -0400 (Tue, 26 Oct 2021)
EndedAt: 2021-10-26 11:14:39 -0400 (Tue, 26 Oct 2021)
EllapsedTime: 5.8 seconds
RetCode: 0
Status:   OK  
PackageFile: CopyhelpeR_1.25.0.tar.gz
PackageFileSize: 42.94 MiB

Command output

##############################################################################
##############################################################################
###
### Running command:
###
###   /home/biocbuild/bbs-3.14-bioc/R/bin/R CMD build --keep-empty-dirs --no-resave-data CopyhelpeR
###
##############################################################################
##############################################################################


* checking for file ‘CopyhelpeR/DESCRIPTION’ ... OK
* preparing ‘CopyhelpeR’:
* checking DESCRIPTION meta-information ... OK
* installing the package to build vignettes
* creating vignettes ... OK
* checking for LF line-endings in source and make files and shell scripts
* checking for empty or unneeded directories
* building ‘CopyhelpeR_1.25.0.tar.gz’