Back to Build/check report for BioC 3.14 experimental data
AB[C]DEFGHIJKLMNOPQRSTUVWXYZ

This page was generated on 2021-10-16 15:51:46 -0400 (Sat, 16 Oct 2021).

BUILD results for CopyNeutralIMA on nebbiolo2

To the developers/maintainers of the CopyNeutralIMA package:
Make sure to use the following settings in order to reproduce any error or warning you see on this page.

raw results

Package 74/404HostnameOS / ArchINSTALLBUILDCHECK
CopyNeutralIMA 1.11.0  (landing page)
Xavier Pastor Hostench
Snapshot Date: 2021-10-16 09:30:02 -0400 (Sat, 16 Oct 2021)
git_url: https://git.bioconductor.org/packages/CopyNeutralIMA
git_branch: master
git_last_commit: cfc3654
git_last_commit_date: 2021-05-19 12:05:21 -0400 (Wed, 19 May 2021)
nebbiolo2Linux (Ubuntu 20.04.2 LTS) / x86_64  OK    OK    OK  UNNEEDED, same version is already published

Summary

Package: CopyNeutralIMA
Version: 1.11.0
Command: /home/biocbuild/bbs-3.14-bioc/R/bin/R CMD build --keep-empty-dirs --no-resave-data CopyNeutralIMA
StartedAt: 2021-10-16 11:13:03 -0400 (Sat, 16 Oct 2021)
EndedAt: 2021-10-16 11:15:59 -0400 (Sat, 16 Oct 2021)
EllapsedTime: 176.2 seconds
RetCode: 0
Status:   OK  
PackageFile: CopyNeutralIMA_1.11.0.tar.gz
PackageFileSize: 534.2 KiB

Command output

##############################################################################
##############################################################################
###
### Running command:
###
###   /home/biocbuild/bbs-3.14-bioc/R/bin/R CMD build --keep-empty-dirs --no-resave-data CopyNeutralIMA
###
##############################################################################
##############################################################################


* checking for file ‘CopyNeutralIMA/DESCRIPTION’ ... OK
* preparing ‘CopyNeutralIMA’:
* checking DESCRIPTION meta-information ... OK
* installing the package to process help pages
Loading required namespace: CopyNeutralIMA
* saving partial Rd database
* creating vignettes ... OK
* checking for LF line-endings in source and make files and shell scripts
* checking for empty or unneeded directories
Omitted ‘LazyData’ from DESCRIPTION
* building ‘CopyNeutralIMA_1.11.0.tar.gz’