Back to Build/check report for BioC 3.14 experimental data
AB[C]DEFGHIJKLMNOPQRSTUVWXYZ

This page was generated on 2021-10-23 15:51:46 -0400 (Sat, 23 Oct 2021).

CHECK results for CluMSIDdata on nebbiolo2

To the developers/maintainers of the CluMSIDdata package:
Make sure to use the following settings in order to reproduce any error or warning you see on this page.

raw results

Package 64/408HostnameOS / ArchINSTALLBUILDCHECK
CluMSIDdata 1.9.0  (landing page)
Tobias Depke
Snapshot Date: 2021-10-23 09:30:01 -0400 (Sat, 23 Oct 2021)
git_url: https://git.bioconductor.org/packages/CluMSIDdata
git_branch: master
git_last_commit: acd6e6c
git_last_commit_date: 2021-05-19 12:07:10 -0400 (Wed, 19 May 2021)
nebbiolo2Linux (Ubuntu 20.04.2 LTS) / x86_64  OK    OK    OK  UNNEEDED, same version is already published

Summary

Package: CluMSIDdata
Version: 1.9.0
Command: /home/biocbuild/bbs-3.14-bioc/R/bin/R CMD check --install=check:CluMSIDdata.install-out.txt --library=/home/biocbuild/bbs-3.14-bioc/R/library --no-vignettes --timings CluMSIDdata_1.9.0.tar.gz
StartedAt: 2021-10-23 12:13:42 -0400 (Sat, 23 Oct 2021)
EndedAt: 2021-10-23 12:14:00 -0400 (Sat, 23 Oct 2021)
EllapsedTime: 18.1 seconds
RetCode: 0
Status:   OK  
CheckDir: CluMSIDdata.Rcheck
Warnings: 0

Command output

##############################################################################
##############################################################################
###
### Running command:
###
###   /home/biocbuild/bbs-3.14-bioc/R/bin/R CMD check --install=check:CluMSIDdata.install-out.txt --library=/home/biocbuild/bbs-3.14-bioc/R/library --no-vignettes --timings CluMSIDdata_1.9.0.tar.gz
###
##############################################################################
##############################################################################


* using log directory ‘/home/biocbuild/bbs-3.14-data-experiment/meat/CluMSIDdata.Rcheck’
* using R version 4.1.1 (2021-08-10)
* using platform: x86_64-pc-linux-gnu (64-bit)
* using session charset: UTF-8
* using option ‘--no-vignettes’
* checking for file ‘CluMSIDdata/DESCRIPTION’ ... OK
* checking extension type ... Package
* this is package ‘CluMSIDdata’ version ‘1.9.0’
* package encoding: UTF-8
* checking package namespace information ... OK
* checking package dependencies ... OK
* checking if this is a source package ... OK
* checking if there is a namespace ... OK
* checking for hidden files and directories ... OK
* checking for portable file names ... OK
* checking for sufficient/correct file permissions ... OK
* checking whether package ‘CluMSIDdata’ can be installed ... OK
* checking installed package size ... NOTE
  installed size is 116.5Mb
  sub-directories of 1Mb or more:
    extdata  116.4Mb
* checking package directory ... OK
* checking DESCRIPTION meta-information ... OK
* checking top-level files ... OK
* checking for left-over files ... OK
* checking index information ... OK
* checking package subdirectories ... OK
* checking whether the package can be loaded ... OK
* checking whether the package can be loaded with stated dependencies ... OK
* checking whether the package can be unloaded cleanly ... OK
* checking whether the namespace can be loaded with stated dependencies ... OK
* checking whether the namespace can be unloaded cleanly ... OK
* checking examples ... NONE
* checking PDF version of manual ... OK
* DONE

Status: 1 NOTE
See
  ‘/home/biocbuild/bbs-3.14-data-experiment/meat/CluMSIDdata.Rcheck/00check.log’
for details.



Installation output

CluMSIDdata.Rcheck/00install.out

##############################################################################
##############################################################################
###
### Running command:
###
###   /home/biocbuild/bbs-3.14-bioc/R/bin/R CMD INSTALL CluMSIDdata
###
##############################################################################
##############################################################################


* installing to library ‘/home/biocbuild/bbs-3.14-bioc/R/library’
* installing *source* package ‘CluMSIDdata’ ...
** using staged installation
** inst
** help
No man pages found in package  ‘CluMSIDdata’ 
*** installing help indices
** building package indices
** testing if installed package can be loaded from temporary location
** testing if installed package can be loaded from final location
** testing if installed package keeps a record of temporary installation path
* DONE (CluMSIDdata)

Tests output


Example timings