Back to Build/check report for BioC 3.14 experimental data
AB[C]DEFGHIJKLMNOPQRSTUVWXYZ

This page was generated on 2021-10-26 15:52:18 -0400 (Tue, 26 Oct 2021).

BUILD results for CluMSIDdata on nebbiolo2

To the developers/maintainers of the CluMSIDdata package:
Make sure to use the following settings in order to reproduce any error or warning you see on this page.

raw results

Package 64/408HostnameOS / ArchINSTALLBUILDCHECK
CluMSIDdata 1.9.0  (landing page)
Tobias Depke
Snapshot Date: 2021-10-26 09:30:02 -0400 (Tue, 26 Oct 2021)
git_url: https://git.bioconductor.org/packages/CluMSIDdata
git_branch: master
git_last_commit: acd6e6c
git_last_commit_date: 2021-05-19 12:07:10 -0400 (Wed, 19 May 2021)
nebbiolo2Linux (Ubuntu 20.04.2 LTS) / x86_64  OK    OK    OK  UNNEEDED, same version is already published

Summary

Package: CluMSIDdata
Version: 1.9.0
Command: /home/biocbuild/bbs-3.14-bioc/R/bin/R CMD build --keep-empty-dirs --no-resave-data CluMSIDdata
StartedAt: 2021-10-26 11:13:37 -0400 (Tue, 26 Oct 2021)
EndedAt: 2021-10-26 11:14:32 -0400 (Tue, 26 Oct 2021)
EllapsedTime: 55.4 seconds
RetCode: 0
Status:   OK  
PackageFile: CluMSIDdata_1.9.0.tar.gz
PackageFileSize: 47.27 MiB

Command output

##############################################################################
##############################################################################
###
### Running command:
###
###   /home/biocbuild/bbs-3.14-bioc/R/bin/R CMD build --keep-empty-dirs --no-resave-data CluMSIDdata
###
##############################################################################
##############################################################################


* checking for file ‘CluMSIDdata/DESCRIPTION’ ... OK
* preparing ‘CluMSIDdata’:
* checking DESCRIPTION meta-information ... OK
* checking for LF line-endings in source and make files and shell scripts
* checking for empty or unneeded directories
Omitted ‘LazyData’ from DESCRIPTION
* building ‘CluMSIDdata_1.9.0.tar.gz’