Back to Build/check report for BioC 3.14 experimental data
AB[C]DEFGHIJKLMNOPQRSTUVWXYZ

This page was generated on 2021-10-23 15:51:46 -0400 (Sat, 23 Oct 2021).

CHECK results for ChimpHumanBrainData on nebbiolo2

To the developers/maintainers of the ChimpHumanBrainData package:
Make sure to use the following settings in order to reproduce any error or warning you see on this page.

raw results

Package 56/408HostnameOS / ArchINSTALLBUILDCHECK
ChimpHumanBrainData 1.31.0  (landing page)
Sean Davis
Snapshot Date: 2021-10-23 09:30:01 -0400 (Sat, 23 Oct 2021)
git_url: https://git.bioconductor.org/packages/ChimpHumanBrainData
git_branch: master
git_last_commit: 786246d
git_last_commit_date: 2021-05-19 11:45:38 -0400 (Wed, 19 May 2021)
nebbiolo2Linux (Ubuntu 20.04.2 LTS) / x86_64  OK    OK    OK  UNNEEDED, same version is already published

Summary

Package: ChimpHumanBrainData
Version: 1.31.0
Command: /home/biocbuild/bbs-3.14-bioc/R/bin/R CMD check --install=check:ChimpHumanBrainData.install-out.txt --library=/home/biocbuild/bbs-3.14-bioc/R/library --no-vignettes --timings ChimpHumanBrainData_1.31.0.tar.gz
StartedAt: 2021-10-23 12:13:11 -0400 (Sat, 23 Oct 2021)
EndedAt: 2021-10-23 12:13:32 -0400 (Sat, 23 Oct 2021)
EllapsedTime: 21.0 seconds
RetCode: 0
Status:   OK  
CheckDir: ChimpHumanBrainData.Rcheck
Warnings: 0

Command output

##############################################################################
##############################################################################
###
### Running command:
###
###   /home/biocbuild/bbs-3.14-bioc/R/bin/R CMD check --install=check:ChimpHumanBrainData.install-out.txt --library=/home/biocbuild/bbs-3.14-bioc/R/library --no-vignettes --timings ChimpHumanBrainData_1.31.0.tar.gz
###
##############################################################################
##############################################################################


* using log directory ‘/home/biocbuild/bbs-3.14-data-experiment/meat/ChimpHumanBrainData.Rcheck’
* using R version 4.1.1 (2021-08-10)
* using platform: x86_64-pc-linux-gnu (64-bit)
* using session charset: UTF-8
* using option ‘--no-vignettes’
* checking for file ‘ChimpHumanBrainData/DESCRIPTION’ ... OK
* checking extension type ... Package
* this is package ‘ChimpHumanBrainData’ version ‘1.31.0’
* checking package namespace information ... OK
* checking package dependencies ... OK
* checking if this is a source package ... OK
* checking if there is a namespace ... OK
* checking for hidden files and directories ... OK
* checking for portable file names ... OK
* checking for sufficient/correct file permissions ... OK
* checking whether package ‘ChimpHumanBrainData’ can be installed ... OK
* checking installed package size ... NOTE
  installed size is 64.7Mb
  sub-directories of 1Mb or more:
    extdata  64.6Mb
* checking package directory ... OK
* checking ‘build’ directory ... OK
* checking DESCRIPTION meta-information ... NOTE
License components which are templates and need '+ file LICENSE':
  MIT
* checking top-level files ... OK
* checking for left-over files ... OK
* checking index information ... OK
* checking package subdirectories ... OK
* checking whether the package can be loaded ... OK
* checking whether the package can be loaded with stated dependencies ... OK
* checking whether the package can be unloaded cleanly ... OK
* checking whether the namespace can be loaded with stated dependencies ... OK
* checking whether the namespace can be unloaded cleanly ... OK
* checking Rd files ... OK
* checking Rd metadata ... OK
* checking Rd cross-references ... OK
* checking for code/documentation mismatches ... OK
* checking Rd \usage sections ... OK
* checking Rd contents ... OK
* checking for unstated dependencies in examples ... OK
* checking files in ‘vignettes’ ... OK
* checking examples ... OK
* checking for unstated dependencies in vignettes ... OK
* checking package vignettes in ‘inst/doc’ ... OK
* checking running R code from vignettes ... SKIPPED
* checking re-building of vignette outputs ... SKIPPED
* checking PDF version of manual ... OK
* DONE

Status: 2 NOTEs
See
  ‘/home/biocbuild/bbs-3.14-data-experiment/meat/ChimpHumanBrainData.Rcheck/00check.log’
for details.



Installation output

ChimpHumanBrainData.Rcheck/00install.out

##############################################################################
##############################################################################
###
### Running command:
###
###   /home/biocbuild/bbs-3.14-bioc/R/bin/R CMD INSTALL ChimpHumanBrainData
###
##############################################################################
##############################################################################


* installing to library ‘/home/biocbuild/bbs-3.14-bioc/R/library’
* installing *source* package ‘ChimpHumanBrainData’ ...
** using staged installation
** inst
** help
*** installing help indices
** building package indices
** installing vignettes
** testing if installed package can be loaded from temporary location
** testing if installed package can be loaded from final location
** testing if installed package keeps a record of temporary installation path
* DONE (ChimpHumanBrainData)

Tests output


Example timings

ChimpHumanBrainData.Rcheck/ChimpHumanBrainData-Ex.timings

nameusersystemelapsed
ChimpHumanBrainData-package3.2590.0573.320