Back to Build/check report for BioC 3.14 experimental data
AB[C]DEFGHIJKLMNOPQRSTUVWXYZ

This page was generated on 2021-10-16 15:51:46 -0400 (Sat, 16 Oct 2021).

BUILD results for ChimpHumanBrainData on nebbiolo2

To the developers/maintainers of the ChimpHumanBrainData package:
Make sure to use the following settings in order to reproduce any error or warning you see on this page.

raw results

Package 56/404HostnameOS / ArchINSTALLBUILDCHECK
ChimpHumanBrainData 1.31.0  (landing page)
Sean Davis
Snapshot Date: 2021-10-16 09:30:02 -0400 (Sat, 16 Oct 2021)
git_url: https://git.bioconductor.org/packages/ChimpHumanBrainData
git_branch: master
git_last_commit: 786246d
git_last_commit_date: 2021-05-19 11:45:38 -0400 (Wed, 19 May 2021)
nebbiolo2Linux (Ubuntu 20.04.2 LTS) / x86_64  OK    OK    OK  UNNEEDED, same version is already published

Summary

Package: ChimpHumanBrainData
Version: 1.31.0
Command: /home/biocbuild/bbs-3.14-bioc/R/bin/R CMD build --keep-empty-dirs --no-resave-data ChimpHumanBrainData
StartedAt: 2021-10-16 11:11:28 -0400 (Sat, 16 Oct 2021)
EndedAt: 2021-10-16 11:12:04 -0400 (Sat, 16 Oct 2021)
EllapsedTime: 36.4 seconds
RetCode: 0
Status:   OK  
PackageFile: ChimpHumanBrainData_1.31.0.tar.gz
PackageFileSize: 64.94 MiB

Command output

##############################################################################
##############################################################################
###
### Running command:
###
###   /home/biocbuild/bbs-3.14-bioc/R/bin/R CMD build --keep-empty-dirs --no-resave-data ChimpHumanBrainData
###
##############################################################################
##############################################################################


* checking for file ‘ChimpHumanBrainData/DESCRIPTION’ ... OK
* preparing ‘ChimpHumanBrainData’:
* checking DESCRIPTION meta-information ... OK
* installing the package to build vignettes
* creating vignettes ... OK
* checking for LF line-endings in source and make files and shell scripts
* checking for empty or unneeded directories
* building ‘ChimpHumanBrainData_1.31.0.tar.gz’