Back to Build/check report for BioC 3.14 experimental data
AB[C]DEFGHIJKLMNOPQRSTUVWXYZ

This page was generated on 2021-10-26 15:52:18 -0400 (Tue, 26 Oct 2021).

All results for package ChIPexoQualExample

To the developers/maintainers of the ChIPexoQualExample package:
Make sure to use the following settings in order to reproduce any error or warning you see on this page.

raw results

Package 58/408HostnameOS / ArchINSTALLBUILDCHECK
ChIPexoQualExample 1.17.1  (landing page)
Rene Welch
Snapshot Date: 2021-10-26 09:30:02 -0400 (Tue, 26 Oct 2021)
git_url: https://git.bioconductor.org/packages/ChIPexoQualExample
git_branch: master
git_last_commit: f8b3e91
git_last_commit_date: 2021-07-26 22:24:19 -0400 (Mon, 26 Jul 2021)
nebbiolo2Linux (Ubuntu 20.04.2 LTS) / x86_64  OK    OK    OK  UNNEEDED, same version is already published