Back to Build/check report for BioC 3.14 experimental data
AB[C]DEFGHIJKLMNOPQRSTUVWXYZ

This page was generated on 2021-10-23 15:51:46 -0400 (Sat, 23 Oct 2021).

BUILD results for ChIC.data on nebbiolo2

To the developers/maintainers of the ChIC.data package:
Make sure to use the following settings in order to reproduce any error or warning you see on this page.

raw results

Package 55/408HostnameOS / ArchINSTALLBUILDCHECK
ChIC.data 1.13.0  (landing page)
Carmen Maria Livi
Snapshot Date: 2021-10-23 09:30:01 -0400 (Sat, 23 Oct 2021)
git_url: https://git.bioconductor.org/packages/ChIC.data
git_branch: master
git_last_commit: ecf2541
git_last_commit_date: 2021-05-19 12:04:51 -0400 (Wed, 19 May 2021)
nebbiolo2Linux (Ubuntu 20.04.2 LTS) / x86_64  OK    OK    OK  UNNEEDED, same version is already published

Summary

Package: ChIC.data
Version: 1.13.0
Command: /home/biocbuild/bbs-3.14-bioc/R/bin/R CMD build --keep-empty-dirs --no-resave-data ChIC.data
StartedAt: 2021-10-23 11:11:49 -0400 (Sat, 23 Oct 2021)
EndedAt: 2021-10-23 11:11:55 -0400 (Sat, 23 Oct 2021)
EllapsedTime: 5.9 seconds
RetCode: 0
Status:   OK  
PackageFile: ChIC.data_1.13.0.tar.gz
PackageFileSize: 44.33 MiB

Command output

##############################################################################
##############################################################################
###
### Running command:
###
###   /home/biocbuild/bbs-3.14-bioc/R/bin/R CMD build --keep-empty-dirs --no-resave-data ChIC.data
###
##############################################################################
##############################################################################


* checking for file ‘ChIC.data/DESCRIPTION’ ... OK
* preparing ‘ChIC.data’:
* checking DESCRIPTION meta-information ... OK
* checking for LF line-endings in source and make files and shell scripts
* checking for empty or unneeded directories
* building ‘ChIC.data_1.13.0.tar.gz’