Back to Build/check report for BioC 3.14 experimental data
AB[C]DEFGHIJKLMNOPQRSTUVWXYZ

This page was generated on 2021-12-01 18:35:25 -0500 (Wed, 01 Dec 2021).

INSTALL results for ChAMPdata on nebbiolo2

To the developers/maintainers of the ChAMPdata package:
Make sure to use the following settings in order to reproduce any error or warning you see on this page.

raw results

Package 54/408HostnameOS / ArchINSTALLBUILDCHECK
ChAMPdata 2.26.0  (landing page)
Yuan Tian
Snapshot Date: 2021-12-01 08:30:01 -0500 (Wed, 01 Dec 2021)
git_url: https://git.bioconductor.org/packages/ChAMPdata
git_branch: RELEASE_3_14
git_last_commit: ea78827
git_last_commit_date: 2021-10-26 12:05:27 -0500 (Tue, 26 Oct 2021)
nebbiolo2Linux (Ubuntu 20.04.3 LTS) / x86_64  OK    OK    OK  UNNEEDED, same version is already published

Summary

Package: ChAMPdata
Version: 2.26.0
Command: /home/biocbuild/bbs-3.14-bioc/R/bin/R CMD INSTALL ChAMPdata
StartedAt: 2021-12-01 14:01:35 -0500 (Wed, 01 Dec 2021)
EndedAt: 2021-12-01 14:01:42 -0500 (Wed, 01 Dec 2021)
EllapsedTime: 6.8 seconds
RetCode: 0
Status:   OK  

Command output

##############################################################################
##############################################################################
###
### Running command:
###
###   /home/biocbuild/bbs-3.14-bioc/R/bin/R CMD INSTALL ChAMPdata
###
##############################################################################
##############################################################################


* installing to library ‘/home/biocbuild/bbs-3.14-bioc/R/library’
* installing *source* package ‘ChAMPdata’ ...
** using staged installation
** data
** inst
** help
*** installing help indices
** building package indices
** testing if installed package can be loaded from temporary location
** testing if installed package can be loaded from final location
** testing if installed package keeps a record of temporary installation path
* DONE (ChAMPdata)